BEGIN:VCALENDAR
VERSION:2.0
PRODID:-//Hubertus Jagdgesellschaft - ECPv6.15.13//NONSGML v1.0//EN
CALSCALE:GREGORIAN
METHOD:PUBLISH
X-WR-CALNAME:Hubertus Jagdgesellschaft
X-ORIGINAL-URL:https://www.jagd-hubertus.ch
X-WR-CALDESC:Veranstaltungen für Hubertus Jagdgesellschaft
REFRESH-INTERVAL;VALUE=DURATION:PT1H
X-Robots-Tag:noindex
X-PUBLISHED-TTL:PT1H
BEGIN:VTIMEZONE
TZID:Europe/Zurich
BEGIN:DAYLIGHT
TZOFFSETFROM:+0100
TZOFFSETTO:+0200
TZNAME:CEST
DTSTART:20240331T010000
END:DAYLIGHT
BEGIN:STANDARD
TZOFFSETFROM:+0200
TZOFFSETTO:+0100
TZNAME:CET
DTSTART:20241027T010000
END:STANDARD
BEGIN:DAYLIGHT
TZOFFSETFROM:+0100
TZOFFSETTO:+0200
TZNAME:CEST
DTSTART:20250330T010000
END:DAYLIGHT
BEGIN:STANDARD
TZOFFSETFROM:+0200
TZOFFSETTO:+0100
TZNAME:CET
DTSTART:20251026T010000
END:STANDARD
BEGIN:DAYLIGHT
TZOFFSETFROM:+0100
TZOFFSETTO:+0200
TZNAME:CEST
DTSTART:20260329T010000
END:DAYLIGHT
BEGIN:STANDARD
TZOFFSETFROM:+0200
TZOFFSETTO:+0100
TZNAME:CET
DTSTART:20261025T010000
END:STANDARD
BEGIN:DAYLIGHT
TZOFFSETFROM:+0100
TZOFFSETTO:+0200
TZNAME:CEST
DTSTART:20270328T010000
END:DAYLIGHT
BEGIN:STANDARD
TZOFFSETFROM:+0200
TZOFFSETTO:+0100
TZNAME:CET
DTSTART:20271031T010000
END:STANDARD
END:VTIMEZONE
BEGIN:VEVENT
DTSTART;VALUE=DATE:20260418
DTEND;VALUE=DATE:20260420
DTSTAMP:20260422T183223
CREATED:20260202T205400Z
LAST-MODIFIED:20260202T205400Z
UID:10000173-1776470400-1776643199@www.jagd-hubertus.ch
SUMMARY:Schweisshundeübung 2
DESCRIPTION:Am Wochenende des 18. und 19. April 2026 findet die zweite Schweisshundeübung in den Revieren Altstätten I und Oberegg AI statt. Es werden 40 CHF pauschal eingezogen (inkl. Getränke Samstagmittag und Sonntagmorgen\, Wurst und Getränke Sonntagmittag). Es wird ein Anmeldeformular auf der Hubertus Webseite aufgeschaltet.
URL:https://www.jagd-hubertus.ch/event/schweisshundeuebung-2/
LOCATION:Thurgau
CATEGORIES:Hunde Termine
ATTACH;FMTTYPE=image/jpeg:https://www.jagd-hubertus.ch/wp-content/uploads/2022/12/hannover_r_guettinger.jpg
ORGANIZER;CN="Richard S%C3%A4tteli":MAILTO:info@saetteli.ch
END:VEVENT
BEGIN:VEVENT
DTSTART;TZID=Europe/Zurich:20260417T090000
DTEND;TZID=Europe/Zurich:20260417T163000
DTSTAMP:20260422T183223
CREATED:20250102T113758Z
LAST-MODIFIED:20251220T155746Z
UID:10000160-1776416400-1776443400@www.jagd-hubertus.ch
SUMMARY:Flintenschiesskurse mit Bruno Achermann
DESCRIPTION:Jagdliches Flintenschiessen auf Wurftauben und Rollhasen. Anmeldung und weitere Informationen auf der Webseite von Bruno Achermann.\n\nDaten: 11. April 2026\, 17. April 2026 & 25. April 2025
URL:https://www.jagd-hubertus.ch/event/flintenschiesskurse-mit-bruno-achermann/2026-04-17/
LOCATION:Jagdschiessanlage Erlenholz\, Jagdschiessanlage Hubertus\, 9300 Wittenbach
CATEGORIES:Aus- und Weiterbildung,Schiessanlässe
ATTACH;FMTTYPE=image/jpeg:https://www.jagd-hubertus.ch/wp-content/uploads/2025/01/Bruno-J-Achermann.jpg
END:VEVENT
BEGIN:VEVENT
DTSTART;TZID=Europe/Zurich:20260413T190000
DTEND;TZID=Europe/Zurich:20260413T200000
DTSTAMP:20260422T183223
CREATED:20260224T091458Z
LAST-MODIFIED:20260224T091458Z
UID:10000177-1776106800-1776110400@www.jagd-hubertus.ch
SUMMARY:Jagdhundetraining Hubertus
DESCRIPTION:Die Montagsübungen beginnen um 19:00 Uhr\, es braucht keine Anmeldung.\n\nDaten: 13. April; 27. April; 11. Mai; 01. Juni; 15. Juni; 29. Juni\, 13. Juli; Sommerpause; 03. August\, 17. August\, 31. August (Schlussübung)\n\nAuskünfte: Richard Sätteli
URL:https://www.jagd-hubertus.ch/event/jagdhundetraining-hubertus/2026-04-13/
LOCATION:Jagdschiessanlage Erlenholz\, Jagdschiessanlage Hubertus\, 9300 Wittenbach
CATEGORIES:Hunde Termine
ATTACH;FMTTYPE=image/jpeg:https://www.jagd-hubertus.ch/wp-content/uploads/2023/02/IMG_7951_1200x900.jpeg
ORGANIZER;CN="Richard S%C3%A4tteli":MAILTO:info@saetteli.ch
END:VEVENT
BEGIN:VEVENT
DTSTART;TZID=Europe/Zurich:20260411T193000
DTEND;TZID=Europe/Zurich:20260411T230000
DTSTAMP:20260422T183223
CREATED:20260407T075907Z
LAST-MODIFIED:20260407T075907Z
UID:10000190-1775935800-1775948400@www.jagd-hubertus.ch
SUMMARY:Unterhaltungsabend mit Stadtjodler im Fürstenland Gossau
DESCRIPTION:Türöffnung und Festwirtschaft mit Nachtessen ab 18:00 Uhr.
URL:https://www.jagd-hubertus.ch/event/unterhaltungsabend-mit-stadtjodler-im-fuerstenland-gossau/
LOCATION:Fürstenlandsaal Gossau\, Bahnhofstrasse 29\, Gossau\, 9200\, Switzerland
ATTACH;FMTTYPE=image/jpeg:https://www.jagd-hubertus.ch/wp-content/uploads/2023/08/Jagdhoerner_1.jpg
ORGANIZER;CN="Jagdhornbl%C3%A4ser Weiherweid":MAILTO:dominik@ruggisberg.ch
END:VEVENT
BEGIN:VEVENT
DTSTART;TZID=Europe/Zurich:20260411T090000
DTEND;TZID=Europe/Zurich:20260411T163000
DTSTAMP:20260422T183223
CREATED:20250102T113758Z
LAST-MODIFIED:20251220T155746Z
UID:10000159-1775898000-1775925000@www.jagd-hubertus.ch
SUMMARY:Flintenschiesskurse mit Bruno Achermann
DESCRIPTION:Jagdliches Flintenschiessen auf Wurftauben und Rollhasen. Anmeldung und weitere Informationen auf der Webseite von Bruno Achermann.\n\nDaten: 11. April 2026\, 17. April 2026 & 25. April 2025
URL:https://www.jagd-hubertus.ch/event/flintenschiesskurse-mit-bruno-achermann/2026-04-11/
LOCATION:Jagdschiessanlage Erlenholz\, Jagdschiessanlage Hubertus\, 9300 Wittenbach
CATEGORIES:Aus- und Weiterbildung,Schiessanlässe
ATTACH;FMTTYPE=image/jpeg:https://www.jagd-hubertus.ch/wp-content/uploads/2025/01/Bruno-J-Achermann.jpg
END:VEVENT
BEGIN:VEVENT
DTSTART;TZID=Europe/Zurich:20260410T160000
DTEND;TZID=Europe/Zurich:20260410T200000
DTSTAMP:20260422T183223
CREATED:20260202T212124Z
LAST-MODIFIED:20260202T212124Z
UID:10000175-1775836800-1775851200@www.jagd-hubertus.ch
SUMMARY:Übung im Schwarzwildgatter in Elgg
DESCRIPTION:Anmeldungen direkt unter http://www.swgg.ch. Die Teilnehmeranzahl ist beschränkt.\n\nOrganisiert durch Richard Sätteli und den Schweizerischen Club für Deutsche Jagdterrier.
URL:https://www.jagd-hubertus.ch/event/uebung-im-schwarzwildgatter-in-elgg/
LOCATION:Schwarzwildgewöhnungsgatter Elgg\, Heurüti\, Elgg\, ZH\, 8353\, Switzerland
CATEGORIES:Hunde Termine
ATTACH;FMTTYPE=image/jpeg:https://www.jagd-hubertus.ch/wp-content/uploads/2022/09/frischlinge_im_januar.jpeg
ORGANIZER;CN="SCDJT":MAILTO:pruefungsobmann@jagdterrier.ch
END:VEVENT
BEGIN:VEVENT
DTSTART;TZID=Europe/Zurich:20260409T190000
DTEND;TZID=Europe/Zurich:20260409T230000
DTSTAMP:20260422T183223
CREATED:20260202T213009Z
LAST-MODIFIED:20260202T213009Z
UID:10000176-1775761200-1775775600@www.jagd-hubertus.ch
SUMMARY:Fangschuss-Seminar
DESCRIPTION:Theorie\, Schusswinkel\, Verhalten\, Kammerstich\, Waffeneinsatz. Referenten: Wildhüter Matthias Müller und Mirco Calderara. Es braucht keine Anmeldung.
URL:https://www.jagd-hubertus.ch/event/fangschuss-seminar/
LOCATION:Jagdschiessanlage Erlenholz\, Jagdschiessanlage Hubertus\, 9300 Wittenbach
CATEGORIES:Aus- und Weiterbildung
ATTACH;FMTTYPE=image/jpeg:https://www.jagd-hubertus.ch/wp-content/uploads/2022/09/Blockhaus-2.jpeg
ORGANIZER;CN="St. Gallischer J%C3%A4gerverein Hubertus":MAILTO:info@jagd-hubertus.ch
END:VEVENT
BEGIN:VEVENT
DTSTART;TZID=Europe/Zurich:20260409T190000
DTEND;TZID=Europe/Zurich:20260409T230000
DTSTAMP:20260422T183223
CREATED:20251028T084703Z
LAST-MODIFIED:20251029T090200Z
UID:10000080-1775761200-1775775600@www.jagd-hubertus.ch
SUMMARY:Fangschuss-Seminar
DESCRIPTION:5Theorie\, Schusswinkel\, Verhalten. Kammerstich\, Waffeneinsatz.\nReferenten: Wildhüter Matthias Müller und Mirko Calderara. \n.
URL:https://www.jagd-hubertus.ch/event/4-revision_jagdausbildung-sg/
LOCATION:Jagdschiessanlage Erlenholz\, Jagdschiessanlage Hubertus\, 9300 Wittenbach
CATEGORIES:Aus- und Weiterbildung
ATTACH;FMTTYPE=image/jpeg:https://www.jagd-hubertus.ch/wp-content/uploads/2023/12/Fangschuss.jpg
ORGANIZER;CN="St. Gallischer J%C3%A4gerverein Hubertus":MAILTO:info@jagd-hubertus.ch
END:VEVENT
BEGIN:VEVENT
DTSTART;VALUE=DATE:20260328
DTEND;VALUE=DATE:20260330
DTSTAMP:20260422T183223
CREATED:20260202T204914Z
LAST-MODIFIED:20260202T210303Z
UID:10000172-1774656000-1774828799@www.jagd-hubertus.ch
SUMMARY:Schweisshundeübung 1
DESCRIPTION:Am Wochenende des 28. und 29. März 2026 findet die erste Schweisshundeübung in den Revieren Thal\, St. Margrethen\, Rorschacherberg und Untereggen statt. Es werden 40 CHF pauschal eingezogen (inklusive Getränke Samstagmittag und Sonntagmorgen\, Wurst und Getränke Sonntagmittag). Es wird ein Anmeldeformular auf der Hubertus Webseite aufgeschaltet.
URL:https://www.jagd-hubertus.ch/event/schweisshundeuebung-1/
LOCATION:Thurgau
CATEGORIES:Hunde Termine
ATTACH;FMTTYPE=image/jpeg:https://www.jagd-hubertus.ch/wp-content/uploads/2022/12/hannover_r_guettinger.jpg
ORGANIZER;CN="Richard S%C3%A4tteli":MAILTO:info@saetteli.ch
END:VEVENT
BEGIN:VEVENT
DTSTART;VALUE=DATE:20260328
DTEND;VALUE=DATE:20260329
DTSTAMP:20260422T183223
CREATED:20251220T154637Z
LAST-MODIFIED:20251220T154637Z
UID:10000158-1774656000-1774742399@www.jagd-hubertus.ch
SUMMARY:Jäger-Flohmarkt im Blockhaus Erlenholz
DESCRIPTION:
URL:https://www.jagd-hubertus.ch/event/jaeger-flohmarkt-im-blockhaus-erlenholz/
LOCATION:Blockhaus Erlenholz\, Jagdschiessanlage Hubertus\, 9300 Wittenbach
CATEGORIES:Allgemein
ATTACH;FMTTYPE=image/jpeg:https://www.jagd-hubertus.ch/wp-content/uploads/2023/08/Stimmung-mit-Hund-Und-Enten-scaled-1.jpeg
ORGANIZER;CN="St. Gallischer J%C3%A4gerverein Hubertus":MAILTO:info@jagd-hubertus.ch
END:VEVENT
BEGIN:VEVENT
DTSTART;TZID=Europe/Zurich:20260327T180000
DTEND;TZID=Europe/Zurich:20260327T220000
DTSTAMP:20260422T183223
CREATED:20260119T193450Z
LAST-MODIFIED:20260119T193450Z
UID:10000168-1774634400-1774648800@www.jagd-hubertus.ch
SUMMARY:Bratwürste selber herstellen in Niederuzwil
DESCRIPTION:Grill und Wurstkurse 2026: Bratwürste selber herstellen in Niederuzwil.
URL:https://www.jagd-hubertus.ch/event/bratwuerste-selber-herstellen-in-niederuzwil/
LOCATION:Schulküche Niederuzwil\, Marktplatz 7\, Niederuzwil\, 9244
CATEGORIES:Aus- und Weiterbildung
ATTACH;FMTTYPE=image/jpeg:https://www.jagd-hubertus.ch/wp-content/uploads/2023/12/Wildbratwurst.jpg
ORGANIZER;CN="Niedermann's":MAILTO:joe.niedermann@bluewin.ch
END:VEVENT
BEGIN:VEVENT
DTSTART;TZID=Europe/Zurich:20260327T163000
DTEND;TZID=Europe/Zurich:20260327T190000
DTSTAMP:20260422T183223
CREATED:20251217T073240Z
LAST-MODIFIED:20251217T073240Z
UID:10000157-1774629000-1774638000@www.jagd-hubertus.ch
SUMMARY:Offizielle Eröffnung Schiess-Saison 2026
DESCRIPTION:Die Jagdschiessanlage ist von nun an für Mitglieder und Gäste gemäss den publizierten Terminen geöffnet.
URL:https://www.jagd-hubertus.ch/event/offizielle-eroeffnung-schiess-saison-2026/
LOCATION:Jagdschiessanlage Erlenholz\, Jagdschiessanlage Hubertus\, 9300 Wittenbach
CATEGORIES:Schiessanlässe
ATTACH;FMTTYPE=image/jpeg:https://www.jagd-hubertus.ch/wp-content/uploads/2025/03/P1000059.jpg
ORGANIZER;CN="St. Gallischer J%C3%A4gerverein Hubertus":MAILTO:info@jagd-hubertus.ch
END:VEVENT
BEGIN:VEVENT
DTSTART;TZID=Europe/Zurich:20260320T163000
DTEND;TZID=Europe/Zurich:20260321T120000
DTSTAMP:20260422T183223
CREATED:20251217T072917Z
LAST-MODIFIED:20251217T072917Z
UID:10000156-1774024200-1774094400@www.jagd-hubertus.ch
SUMMARY:Schiessanlage nur für Hubertus-Mitglieder geöffnet
DESCRIPTION:Auch am zweiten Wochenende ist die Anlage exklusiv unseren Vereinsmitgliedern vorbehalten. Nutzt die Gelegenheit\, Eure Schiessnachweise in entspannter Atmosphäre zu absolvieren.
URL:https://www.jagd-hubertus.ch/event/schiessanlage-nur-fuer-hubertus-mitglieder-geoeffnet-4/
LOCATION:Jagdschiessanlage Erlenholz\, Jagdschiessanlage Hubertus\, 9300 Wittenbach
CATEGORIES:Schiessanlässe
ATTACH;FMTTYPE=image/jpeg:https://www.jagd-hubertus.ch/wp-content/uploads/2025/03/P1000018-2-scaled.jpg
ORGANIZER;CN="St. Gallischer J%C3%A4gerverein Hubertus":MAILTO:info@jagd-hubertus.ch
END:VEVENT
BEGIN:VEVENT
DTSTART;TZID=Europe/Zurich:20260313T163000
DTEND;TZID=Europe/Zurich:20260314T120000
DTSTAMP:20260422T183223
CREATED:20251217T072553Z
LAST-MODIFIED:20251217T072553Z
UID:10000155-1773419400-1773489600@www.jagd-hubertus.ch
SUMMARY:Start Schiess-Saison 2026 nur für Hubertusmitglieder
DESCRIPTION:Schiessanlage ausschliesslich für Hubertusmitglieder geöffnet. Nutzt die Chance\, Eure Schiessnachweise in entspannter Atmosphäre zu erledigen.
URL:https://www.jagd-hubertus.ch/event/start-schiess-saison-2026-nur-fuer-hubertusmitglieder/
LOCATION:Jagdschiessanlage Erlenholz\, Jagdschiessanlage Hubertus\, 9300 Wittenbach
CATEGORIES:Schiessanlässe
ATTACH;FMTTYPE=image/jpeg:https://www.jagd-hubertus.ch/wp-content/uploads/2025/03/P1000018-2-scaled.jpg
ORGANIZER;CN="St. Gallischer J%C3%A4gerverein Hubertus":MAILTO:info@jagd-hubertus.ch
END:VEVENT
BEGIN:VEVENT
DTSTART;TZID=Europe/Zurich:20260312T160000
DTEND;TZID=Europe/Zurich:20260312T220000
DTSTAMP:20260422T183223
CREATED:20251217T072051Z
LAST-MODIFIED:20251217T072051Z
UID:10000154-1773331200-1773352800@www.jagd-hubertus.ch
SUMMARY:Interner Start Schiess-Saison 2026 (reserviert für Helfer)
DESCRIPTION:Die Schiessanlage ist exklusiv für Helferinnen und Helfer geöffnet. Im Anschluss findet das jährliche Helferessen statt.
URL:https://www.jagd-hubertus.ch/event/interner-start-schiess-saison-2026-reserviert-fuer-helfer/
LOCATION:Jagdschiessanlage Erlenholz\, Jagdschiessanlage Hubertus\, 9300 Wittenbach
CATEGORIES:Schiessanlässe
ATTACH;FMTTYPE=image/jpeg:https://www.jagd-hubertus.ch/wp-content/uploads/2025/03/P1000083.jpg
ORGANIZER;CN="St. Gallischer J%C3%A4gerverein Hubertus":MAILTO:info@jagd-hubertus.ch
END:VEVENT
BEGIN:VEVENT
DTSTART;TZID=Europe/Zurich:20260307T173000
DTEND;TZID=Europe/Zurich:20260307T230000
DTSTAMP:20260422T183223
CREATED:20251216T074412Z
LAST-MODIFIED:20251217T071422Z
UID:10000153-1772904600-1772924400@www.jagd-hubertus.ch
SUMMARY:Hubertus Hauptversammlung Engelburg
DESCRIPTION:Die Einladung mit weiteren Informationen wird im Januar an die Mitglieder verschickt.
URL:https://www.jagd-hubertus.ch/event/hubertus-hauptversammlung-gaiserwald-engelburg/
LOCATION:Mehrzweckhalle Engelburg\, St. Gallerstrasse 24\, Engelburg\, St. Gallen\, 9032\, Switzerland
CATEGORIES:Versammlung
ATTACH;FMTTYPE=image/jpeg:https://www.jagd-hubertus.ch/wp-content/uploads/2025/03/MPS_6065.jpg
ORGANIZER;CN="St. Gallischer J%C3%A4gerverein Hubertus":MAILTO:info@jagd-hubertus.ch
END:VEVENT
BEGIN:VEVENT
DTSTART;TZID=Europe/Zurich:20260306T170000
DTEND;TZID=Europe/Zurich:20260307T150000
DTSTAMP:20260422T183223
CREATED:20241229T103548Z
LAST-MODIFIED:20251216T073543Z
UID:10000135-1772816400-1772895600@www.jagd-hubertus.ch
SUMMARY:50 Jahre Rothirsch-Hegeschau St. Gallen
DESCRIPTION:Am 6. und 7. März 2026 findet in Walenstadt die 50. Rothirsch-Hegeschau statt. Am Freitagabend wird wie gewohnt die Hegeschau abgehalten und am Samstag Vormittag laden wir Interessierte und Familien zu einem besonderen Programm ein. Nebst einer Podiumsdiskussion mit nationalen Gästen rund um das Thema Rotwild\, Wolf und Wald findet auch ein Kinderkonzert mit „Marius und die Jagdkapelle“ statt.
URL:https://www.jagd-hubertus.ch/event/rotwildhegeschau-in-walenstadt-2/
LOCATION:Halle am See\, Walenstadt
CATEGORIES:Hegeschau
ATTACH;FMTTYPE=image/jpeg:https://www.jagd-hubertus.ch/wp-content/uploads/2024/12/Rotwildhegeschau.jpg
ORGANIZER;CN="ANJF St. Gallen":MAILTO:simon.meier@sg.ch
END:VEVENT
BEGIN:VEVENT
DTSTART;TZID=Europe/Zurich:20260305T190000
DTEND;TZID=Europe/Zurich:20260305T230000
DTSTAMP:20260422T183223
CREATED:20251028T085304Z
LAST-MODIFIED:20251029T090243Z
UID:10000106-1772737200-1772751600@www.jagd-hubertus.ch
SUMMARY:Rehwildbejagung im Spannungsfeld von Praxis und Forschung
DESCRIPTION:Wir erhalten Einblick in die zeitgemässe Rehwildbejagung in der Fürstlich zu Oettingen-Spielbergs’schen Verwaltung\, untermauert mit Forschungsergebnissen der Technischen Universität München. Referenten: Revieroberjäger Rupprecht Walch und Dr. Ferdiand Stehr.
URL:https://www.jagd-hubertus.ch/event/wursten-mit-wildfleisch/
LOCATION:Blockhaus Erlenholz\, Jagdschiessanlage Hubertus\, 9300 Wittenbach
CATEGORIES:Aus- und Weiterbildung
ATTACH;FMTTYPE=image/jpeg:https://www.jagd-hubertus.ch/wp-content/uploads/2023/12/Rehbock-Website-Hubertus.jpg
ORGANIZER;CN="St. Gallischer J%C3%A4gerverein Hubertus":MAILTO:info@jagd-hubertus.ch
END:VEVENT
BEGIN:VEVENT
DTSTART;TZID=Europe/Zurich:20260218T183000
DTEND;TZID=Europe/Zurich:20260218T223000
DTSTAMP:20260422T183223
CREATED:20251205T075229Z
LAST-MODIFIED:20260211T144512Z
UID:10000152-1771439400-1771453800@www.jagd-hubertus.ch
SUMMARY:Jägerhöck im Blockhaus
DESCRIPTION:Unsere Hubertuswirtin Seraina Frischknecht organisiert auch in diesem Winter die beliebten Jägerhöcke. Sie sind eine Gelegenheit für lockeres Zusammensitzen mit jagdlicher Verpflegung. Eine Anmeldung ist nicht erforderlich.
URL:https://www.jagd-hubertus.ch/event/jaegerhoeck-im-blockhaus-2/
LOCATION:Blockhaus Erlenholz\, Jagdschiessanlage Hubertus\, 9300 Wittenbach
CATEGORIES:Jägerhöck
ATTACH;FMTTYPE=image/jpeg:https://www.jagd-hubertus.ch/wp-content/uploads/2023/02/DSC05067_1350x900.jpg
ORGANIZER;CN="Seraina Frischknecht":MAILTO:frischknechtseraina@gmail.com
END:VEVENT
BEGIN:VEVENT
DTSTART;TZID=Europe/Zurich:20260207T080000
DTEND;TZID=Europe/Zurich:20260207T180000
DTSTAMP:20260422T183223
CREATED:20241105T131610Z
LAST-MODIFIED:20251216T072704Z
UID:10000077-1770451200-1770487200@www.jagd-hubertus.ch
SUMMARY:Säuli-Schiessen mit Metzgete
DESCRIPTION:Spannendes Säulischiessen\, legendäre Metzgete und vielfältiger Jägermarkt\, Jagdschiessanlage Hubertus\, Erlenholz\, 8–17.30 Uhr\, Absenden: 18.30 Uhr. Alle Teilnehmenden erhalten einen Fleischpreis.
URL:https://www.jagd-hubertus.ch/event/saeuli-schiessen-mit-metzgete-2/
LOCATION:Jagdschiessanlage Erlenholz\, Jagdschiessanlage Hubertus\, 9300 Wittenbach
CATEGORIES:Schiessanlässe
ATTACH;FMTTYPE=image/jpeg:https://www.jagd-hubertus.ch/wp-content/uploads/2023/12/Saeuli.jpeg
ORGANIZER;CN="St. Gallischer J%C3%A4gerverein Hubertus":MAILTO:info@jagd-hubertus.ch
END:VEVENT
BEGIN:VEVENT
DTSTART;TZID=Europe/Zurich:20260205T190000
DTEND;TZID=Europe/Zurich:20260205T230000
DTSTAMP:20260422T183223
CREATED:20250103T114038Z
LAST-MODIFIED:20251029T085538Z
UID:10000147-1770318000-1770332400@www.jagd-hubertus.ch
SUMMARY:Starke Typen\, weiche Herzen: Das Seelenleben der Jäger
DESCRIPTION:Ein Gesprächsabend über das Seelenleben von Jägerinnen und Jägern sowie jagdliche Emotionen und Rituale. Moderiert von Markus Anker\, Pfarrer und aktiver Jäger.
URL:https://www.jagd-hubertus.ch/event/gourmet-grillkurs/
LOCATION:Blockhaus Erlenholz\, Jagdschiessanlage Hubertus\, 9300 Wittenbach
CATEGORIES:Aus- und Weiterbildung
ATTACH;FMTTYPE=image/jpeg:https://www.jagd-hubertus.ch/wp-content/uploads/2025/01/Seelenleben.jpg
ORGANIZER;CN="St. Gallischer J%C3%A4gerverein Hubertus":MAILTO:info@jagd-hubertus.ch
END:VEVENT
BEGIN:VEVENT
DTSTART;TZID=Europe/Zurich:20260121T183000
DTEND;TZID=Europe/Zurich:20260121T203000
DTSTAMP:20260422T183223
CREATED:20251205T074609Z
LAST-MODIFIED:20251205T074609Z
UID:10000151-1769020200-1769027400@www.jagd-hubertus.ch
SUMMARY:Jägerhöck im Blockhaus
DESCRIPTION:Unsere Hubertuswirtin Seraina Frischknecht organisiert auch in diesem Winter die beliebten Jägerhöcke. Sie sind eine Gelegenheit für lockeres Zusammensitzen mit jagdlicher Verpflegung. Eine Anmeldung ist nicht erforderlich.
URL:https://www.jagd-hubertus.ch/event/jaegerhoeck-im-blockhaus/
LOCATION:Blockhaus Erlenholz\, Jagdschiessanlage Hubertus\, 9300 Wittenbach
CATEGORIES:Jägerhöck
ATTACH;FMTTYPE=image/jpeg:https://www.jagd-hubertus.ch/wp-content/uploads/2023/02/DSC05068_1350x900.jpg
ORGANIZER;CN="Seraina Frischknecht":MAILTO:frischknechtseraina@gmail.com
END:VEVENT
BEGIN:VEVENT
DTSTART;TZID=Europe/Zurich:20260115T180000
DTEND;TZID=Europe/Zurich:20260115T230000
DTSTAMP:20260422T183223
CREATED:20251029T080844Z
LAST-MODIFIED:20251222T125548Z
UID:10000105-1768500000-1768518000@www.jagd-hubertus.ch
SUMMARY:Wilder Genuss – neue Wege der Wildbretverwertung
DESCRIPTION:Praktische Arbeit am Wildbret mit Renato Mariana\, dem ersten Wild-Sommelier der Schweiz. Im Anschluss geniessen wir gemeinsam zubereitetes Wildbret\, begleitet von erlesenen Weinen. Nur für Vereinsmitglieder\, max. 40 Teilnehmende. Voranmeldung erforderlich. Unkostenbeitrag CHF 80.– (vorgängige Einzahlung). Anmeldung an: weiterbildung@jagd-hubertus.ch \nReferenten:\nDamian Signer\, Jäger & Metzger https://www.larina-fleisch.ch/\nJosef Niedermann\, Metzger\, Fleischsommelier\, https://www.leckersfleisch.ch/\nUrs Koller\, Koch https://www.chochhandwerk.ch/\nSommelier Ralph Rutz\, https://www.vignarutz.ch/\nRenato Mariana\, Jäger\, Wildsommelier https://www.liebeswerkstatt.ch/ \nAblauf:\nBegrüssung Vorstellung der Referenten\, Renato Mariana\nWild / Wild Zerwirken\, Damian Signer\, Vortrag & zeitgleich Reh zerwirken\nTeilstücke & deren Verwendung /Aufbereitung\, Josef Niedermann\, Vortrag & zeitgleich praktisches zeigen\nKoch & Gartechniken\, Urs Koller\, Vortrag & zeitgleich praktisches zeigen\nZusammen Kochen\, Urs Koller\, Vortrag & zeitgleich praktisches zeigen\nZusammen essen\, Urs Koller\, Vortrag & zeitgleich praktisches zeigen\nPassende Weine\, Roman Rutishauser\, Vortrag & zeitgleich praktisches zeigen \nOrt:\nChochhandwerk AG\nSt. Gallerstrasse 93\n9200 Gossau\ninfo@chochhandwerk.ch\n+41 71 383 27 17
URL:https://www.jagd-hubertus.ch/event/wilder-genuss-gossau/
LOCATION:Gossau\, St.Gallerstrasse 93\, Gossau\, 9200
CATEGORIES:Aus- und Weiterbildung
ATTACH;FMTTYPE=image/jpeg:https://www.jagd-hubertus.ch/wp-content/uploads/2023/12/Wildbret.jpg
END:VEVENT
BEGIN:VEVENT
DTSTART;TZID=Europe/Zurich:20260109T180000
DTEND;TZID=Europe/Zurich:20260109T230000
DTSTAMP:20260422T183223
CREATED:20251205T072943Z
LAST-MODIFIED:20251216T071851Z
UID:10000150-1767981600-1767999600@www.jagd-hubertus.ch
SUMMARY:Raclette-Buffet im Blockhaus Erlenholz
DESCRIPTION:Anmeldung bis 2. Januar 2026 bei Seraina Frischknecht.
URL:https://www.jagd-hubertus.ch/event/raclette-buffet-im-blockhaus-erlenholz/
LOCATION:Blockhaus Erlenholz\, Jagdschiessanlage Hubertus\, 9300 Wittenbach
CATEGORIES:Raclette-Buffet
ATTACH;FMTTYPE=image/png:https://www.jagd-hubertus.ch/wp-content/uploads/2023/09/Raclette-Buffet.png
ORGANIZER;CN="Seraina Frischknecht":MAILTO:frischknechtseraina@gmail.com
END:VEVENT
BEGIN:VEVENT
DTSTART;TZID=Europe/Zurich:20251106T180000
DTEND;TZID=Europe/Zurich:20251106T220000
DTSTAMP:20260422T183223
CREATED:20251001T082409Z
LAST-MODIFIED:20251001T082409Z
UID:10000149-1762452000-1762466400@www.jagd-hubertus.ch
SUMMARY:Infoabend «Sanierung Blockhaus»
DESCRIPTION:Nachdem der Jagdverein Hubertus St. Gallen 1972 das Areal im Erlenholz erwerben konnte\, wurde innert zwei Jahren mit viel Fronarbeit die erste Schiessanlage samt Blockhaus erstellt. Das Blockhaus wurde damals bereits mit einer Deckenheizung ausgestattet\, benötigte während über 50 Jahren keine umfassende Renovation und wird seither intensiv genutzt. Inzwischen ist das Dach aus Welleternit jedoch derart undicht\, dass punktuelle Reparaturen nicht mehr genügen – eine komplette Erneuerung ist zwingend erforderlich. Auch die inzwischen 50-jährige Gas-Deckenheizung ist störanfällig\, Ersatzteile sind nicht mehr erhältlich\, und die Anlage hat das Ende ihrer Lebensdauer erreicht.\n\nDie Mitgliederversammlung vom März 2025 hat die Sanierung grundsätzlich gutgeheissen und einen Planungskredit von 50’000 CHF bewilligt. Das Bauprojekt ist inzwischen ausgearbeitet\, das Bewilligungsverfahren abgeschlossen und die Baubewilligung erteilt. Die Kosten belaufen sich auf rund 600’000 CHF. In den kommenden Monaten wird die Finanzierung vorbereitet\, damit die Mitgliederversammlung im März 2026 darüber befinden kann. Am Donnerstag\, 6. November 2025\, findet um 19.15 Uhr im Erlenholz ein Informationsabend statt (Nachtessen möglich ab 18.00 Uhr). Dort wird die Baukommission das Projekt vorstellen und die geplanten Arbeiten direkt vor Ort erläutern. Der Vorstand freut sich über Deine Teilnahme.
URL:https://www.jagd-hubertus.ch/event/infoabend-sanierung-blockhaus/
LOCATION:Jagdschiessanlage Erlenholz\, Jagdschiessanlage Hubertus\, 9300 Wittenbach
CATEGORIES:Allgemein,Versammlung
ATTACH;FMTTYPE=image/jpeg:https://www.jagd-hubertus.ch/wp-content/uploads/2025/10/Hubertus-Blockhaus_Drohnenbild.jpg
END:VEVENT
BEGIN:VEVENT
DTSTART;TZID=Europe/Zurich:20250926T163000
DTEND;TZID=Europe/Zurich:20250926T193000
DTSTAMP:20260422T183223
CREATED:20250102T121445Z
LAST-MODIFIED:20250102T121445Z
UID:10000145-1758904200-1758915000@www.jagd-hubertus.ch
SUMMARY:Letzter Schiesstag
DESCRIPTION:Am Freitag dem 26. September 2025 ist die Schiessanlage ein letztes Mal geöffnet\, bevor wir sie tagsdarauf einwintern.
URL:https://www.jagd-hubertus.ch/event/letzter-schiesstag-2/
LOCATION:Jagdschiessanlage Erlenholz\, Jagdschiessanlage Hubertus\, 9300 Wittenbach
CATEGORIES:Allgemein
ATTACH;FMTTYPE=image/jpeg:https://www.jagd-hubertus.ch/wp-content/uploads/2023/07/IMG_2073-Kopie.jpg
END:VEVENT
BEGIN:VEVENT
DTSTART;TZID=Europe/Zurich:20250823T080000
DTEND;TZID=Europe/Zurich:20250823T170000
DTSTAMP:20260422T183223
CREATED:20250102T120742Z
LAST-MODIFIED:20250102T120742Z
UID:10000144-1755936000-1755968400@www.jagd-hubertus.ch
SUMMARY:Trophäenbewertung
DESCRIPTION:Annahme der Trophäen bis am 22. August 2025
URL:https://www.jagd-hubertus.ch/event/trophaeenbewertung/
LOCATION:Blockhaus Erlenholz\, Jagdschiessanlage Hubertus\, 9300 Wittenbach
CATEGORIES:Allgemein
ATTACH;FMTTYPE=image/jpeg:https://www.jagd-hubertus.ch/wp-content/uploads/2024/09/IMG_6695.jpg
ORGANIZER;CN="St. Gallischer J%C3%A4gerverein Hubertus":MAILTO:info@jagd-hubertus.ch
END:VEVENT
BEGIN:VEVENT
DTSTART;TZID=Europe/Zurich:20250614T070000
DTEND;TZID=Europe/Zurich:20250614T120000
DTSTAMP:20260422T183223
CREATED:20250102T120403Z
LAST-MODIFIED:20250102T120403Z
UID:10000143-1749884400-1749902400@www.jagd-hubertus.ch
SUMMARY:1. Arbeitstag im Erlenholz
DESCRIPTION:Am Samstag\, dem 14. Juni 2025 treffen wir uns von 0700 bis 1200 im Erlenholz zum ersten jährlichen Arbeitstag. Wir freuen uns auf Eure zahlreichen Anmeldungen!
URL:https://www.jagd-hubertus.ch/event/1-arbeitstag-im-erlenholz-3/
LOCATION:Blockhaus Erlenholz\, Jagdschiessanlage Hubertus\, 9300 Wittenbach
CATEGORIES:Allgemein
ATTACH;FMTTYPE=image/jpeg:https://www.jagd-hubertus.ch/wp-content/uploads/2024/09/PS_2136.jpg
ORGANIZER;CN="St. Gallischer J%C3%A4gerverein Hubertus":MAILTO:info@jagd-hubertus.ch
END:VEVENT
BEGIN:VEVENT
DTSTART;TZID=Europe/Zurich:20250523T174500
DTEND;TZID=Europe/Zurich:20250523T220000
DTSTAMP:20260422T183223
CREATED:20231228T143136Z
LAST-MODIFIED:20250103T103013Z
UID:10000103-1748022300-1748037600@www.jagd-hubertus.ch
SUMMARY:Wild'er Grillkurs
DESCRIPTION:
URL:https://www.jagd-hubertus.ch/event/wilder-grillkurs-in-niederuzwil/
LOCATION:Stockweidhöckli Algetshausen\, Stockenstrasse\, Algetshausen\, 9249
CATEGORIES:Aus- und Weiterbildung
ATTACH;FMTTYPE=image/jpeg:https://www.jagd-hubertus.ch/wp-content/uploads/2023/12/Kurs-Wild-4-2024-3.jpg
END:VEVENT
BEGIN:VEVENT
DTSTART;TZID=Europe/Zurich:20250509T080000
DTEND;TZID=Europe/Zurich:20250510T160000
DTSTAMP:20260422T183223
CREATED:20250102T115837Z
LAST-MODIFIED:20250102T115837Z
UID:10000142-1746777600-1746892800@www.jagd-hubertus.ch
SUMMARY:Kantonale Schiessprüfung im Erlenholz
DESCRIPTION:Am 9. und 10. Mai 2025 finden im Erlenholz die kantonalen Schiessprüfungen der Jungjäger statt. Am Freitag kann die Schiessanlage trotzdem noch genutzt werden\, am Samstag ist sie hingegen geschlossen.
URL:https://www.jagd-hubertus.ch/event/kantonale-schiesspruefung-im-erlenholz/
LOCATION:Jagdschiessanlage Erlenholz\, Jagdschiessanlage Hubertus\, 9300 Wittenbach
CATEGORIES:Aus- und Weiterbildung
ATTACH;FMTTYPE=image/jpeg:https://www.jagd-hubertus.ch/wp-content/uploads/2023/12/Flintenschiessen.jpg
ORGANIZER;CN="ANJF St. Gallen":MAILTO:simon.meier@sg.ch
END:VEVENT
END:VCALENDAR