BEGIN:VCALENDAR
VERSION:2.0
PRODID:-//Hubertus Jagdgesellschaft - ECPv6.15.13//NONSGML v1.0//EN
CALSCALE:GREGORIAN
METHOD:PUBLISH
X-WR-CALNAME:Hubertus Jagdgesellschaft
X-ORIGINAL-URL:https://www.jagd-hubertus.ch
X-WR-CALDESC:Veranstaltungen für Hubertus Jagdgesellschaft
REFRESH-INTERVAL;VALUE=DURATION:PT1H
X-Robots-Tag:noindex
X-PUBLISHED-TTL:PT1H
BEGIN:VTIMEZONE
TZID:Europe/Zurich
BEGIN:DAYLIGHT
TZOFFSETFROM:+0100
TZOFFSETTO:+0200
TZNAME:CEST
DTSTART:20250330T010000
END:DAYLIGHT
BEGIN:STANDARD
TZOFFSETFROM:+0200
TZOFFSETTO:+0100
TZNAME:CET
DTSTART:20251026T010000
END:STANDARD
BEGIN:DAYLIGHT
TZOFFSETFROM:+0100
TZOFFSETTO:+0200
TZNAME:CEST
DTSTART:20260329T010000
END:DAYLIGHT
BEGIN:STANDARD
TZOFFSETFROM:+0200
TZOFFSETTO:+0100
TZNAME:CET
DTSTART:20261025T010000
END:STANDARD
BEGIN:DAYLIGHT
TZOFFSETFROM:+0100
TZOFFSETTO:+0200
TZNAME:CEST
DTSTART:20270328T010000
END:DAYLIGHT
BEGIN:STANDARD
TZOFFSETFROM:+0200
TZOFFSETTO:+0100
TZNAME:CET
DTSTART:20271031T010000
END:STANDARD
BEGIN:DAYLIGHT
TZOFFSETFROM:+0100
TZOFFSETTO:+0200
TZNAME:CEST
DTSTART:20280326T010000
END:DAYLIGHT
BEGIN:STANDARD
TZOFFSETFROM:+0200
TZOFFSETTO:+0100
TZNAME:CET
DTSTART:20281029T010000
END:STANDARD
END:VTIMEZONE
BEGIN:VEVENT
DTSTART;TZID=Europe/Zurich:20260619T174500
DTEND;TZID=Europe/Zurich:20260619T220000
DTSTAMP:20260422T171501
CREATED:20260119T194306Z
LAST-MODIFIED:20260119T200718Z
UID:10000169-1781891100-1781906400@www.jagd-hubertus.ch
SUMMARY:Gourmet Grillkurs in Niederuzwil
DESCRIPTION:Grill und Wurstkurse 2026: Gourmet Grillkurs in Niederuzwil.
URL:https://www.jagd-hubertus.ch/event/gourmet-grillkurs-in-niederuzwil/
LOCATION:Stockweidhöckli Algetshausen\, Stockenstrasse\, Algetshausen\, 9249
CATEGORIES:Aus- und Weiterbildung
ATTACH;FMTTYPE=image/jpeg:https://www.jagd-hubertus.ch/wp-content/uploads/2023/08/Wildbret-3-1-scaled.jpeg
ORGANIZER;CN="Niedermann's":MAILTO:joe.niedermann@bluewin.ch
END:VEVENT
BEGIN:VEVENT
DTSTART;TZID=Europe/Zurich:20260629T190000
DTEND;TZID=Europe/Zurich:20260629T200000
DTSTAMP:20260422T171501
CREATED:20260224T091458Z
LAST-MODIFIED:20260224T091458Z
UID:10000182-1782759600-1782763200@www.jagd-hubertus.ch
SUMMARY:Jagdhundetraining Hubertus
DESCRIPTION:Die Montagsübungen beginnen um 19:00 Uhr\, es braucht keine Anmeldung.\n\nDaten: 13. April; 27. April; 11. Mai; 01. Juni; 15. Juni; 29. Juni\, 13. Juli; Sommerpause; 03. August\, 17. August\, 31. August (Schlussübung)\n\nAuskünfte: Richard Sätteli
URL:https://www.jagd-hubertus.ch/event/jagdhundetraining-hubertus/2026-06-29/
LOCATION:Jagdschiessanlage Erlenholz\, Jagdschiessanlage Hubertus\, 9300 Wittenbach
CATEGORIES:Hunde Termine
ATTACH;FMTTYPE=image/jpeg:https://www.jagd-hubertus.ch/wp-content/uploads/2023/02/IMG_7951_1200x900.jpeg
ORGANIZER;CN="Richard S%C3%A4tteli":MAILTO:info@saetteli.ch
END:VEVENT
BEGIN:VEVENT
DTSTART;TZID=Europe/Zurich:20260713T190000
DTEND;TZID=Europe/Zurich:20260713T200000
DTSTAMP:20260422T171501
CREATED:20260224T091458Z
LAST-MODIFIED:20260224T091458Z
UID:10000183-1783969200-1783972800@www.jagd-hubertus.ch
SUMMARY:Jagdhundetraining Hubertus
DESCRIPTION:Die Montagsübungen beginnen um 19:00 Uhr\, es braucht keine Anmeldung.\n\nDaten: 13. April; 27. April; 11. Mai; 01. Juni; 15. Juni; 29. Juni\, 13. Juli; Sommerpause; 03. August\, 17. August\, 31. August (Schlussübung)\n\nAuskünfte: Richard Sätteli
URL:https://www.jagd-hubertus.ch/event/jagdhundetraining-hubertus/2026-07-13/
LOCATION:Jagdschiessanlage Erlenholz\, Jagdschiessanlage Hubertus\, 9300 Wittenbach
CATEGORIES:Hunde Termine
ATTACH;FMTTYPE=image/jpeg:https://www.jagd-hubertus.ch/wp-content/uploads/2023/02/IMG_7951_1200x900.jpeg
ORGANIZER;CN="Richard S%C3%A4tteli":MAILTO:info@saetteli.ch
END:VEVENT
BEGIN:VEVENT
DTSTART;TZID=Europe/Zurich:20260803T190000
DTEND;TZID=Europe/Zurich:20260803T200000
DTSTAMP:20260422T171501
CREATED:20260224T091458Z
LAST-MODIFIED:20260224T091458Z
UID:10000184-1785783600-1785787200@www.jagd-hubertus.ch
SUMMARY:Jagdhundetraining Hubertus
DESCRIPTION:Die Montagsübungen beginnen um 19:00 Uhr\, es braucht keine Anmeldung.\n\nDaten: 13. April; 27. April; 11. Mai; 01. Juni; 15. Juni; 29. Juni\, 13. Juli; Sommerpause; 03. August\, 17. August\, 31. August (Schlussübung)\n\nAuskünfte: Richard Sätteli
URL:https://www.jagd-hubertus.ch/event/jagdhundetraining-hubertus/2026-08-03/
LOCATION:Jagdschiessanlage Erlenholz\, Jagdschiessanlage Hubertus\, 9300 Wittenbach
CATEGORIES:Hunde Termine
ATTACH;FMTTYPE=image/jpeg:https://www.jagd-hubertus.ch/wp-content/uploads/2023/02/IMG_7951_1200x900.jpeg
ORGANIZER;CN="Richard S%C3%A4tteli":MAILTO:info@saetteli.ch
END:VEVENT
BEGIN:VEVENT
DTSTART;TZID=Europe/Zurich:20260817T190000
DTEND;TZID=Europe/Zurich:20260817T200000
DTSTAMP:20260422T171501
CREATED:20260224T091458Z
LAST-MODIFIED:20260224T091458Z
UID:10000185-1786993200-1786996800@www.jagd-hubertus.ch
SUMMARY:Jagdhundetraining Hubertus
DESCRIPTION:Die Montagsübungen beginnen um 19:00 Uhr\, es braucht keine Anmeldung.\n\nDaten: 13. April; 27. April; 11. Mai; 01. Juni; 15. Juni; 29. Juni\, 13. Juli; Sommerpause; 03. August\, 17. August\, 31. August (Schlussübung)\n\nAuskünfte: Richard Sätteli
URL:https://www.jagd-hubertus.ch/event/jagdhundetraining-hubertus/2026-08-17/
LOCATION:Jagdschiessanlage Erlenholz\, Jagdschiessanlage Hubertus\, 9300 Wittenbach
CATEGORIES:Hunde Termine
ATTACH;FMTTYPE=image/jpeg:https://www.jagd-hubertus.ch/wp-content/uploads/2023/02/IMG_7951_1200x900.jpeg
ORGANIZER;CN="Richard S%C3%A4tteli":MAILTO:info@saetteli.ch
END:VEVENT
BEGIN:VEVENT
DTSTART;TZID=Europe/Zurich:20260822T080000
DTEND;TZID=Europe/Zurich:20260822T170000
DTSTAMP:20260422T171501
CREATED:20251220T162441Z
LAST-MODIFIED:20251220T162441Z
UID:10000164-1787385600-1787418000@www.jagd-hubertus.ch
SUMMARY:Trophäenbewertung
DESCRIPTION:Trophäenbewertung durch die Bewertungskommission des Jagdvereins Hubertus St. Gallen. Annahmeschluss 21. August 2026.
URL:https://www.jagd-hubertus.ch/event/trophaeenbewertung-2/
LOCATION:Blockhaus Erlenholz\, Jagdschiessanlage Hubertus\, 9300 Wittenbach
CATEGORIES:Allgemein
ATTACH;FMTTYPE=image/jpeg:https://www.jagd-hubertus.ch/wp-content/uploads/2024/09/IMG_6695.jpg
ORGANIZER;CN="St. Gallischer J%C3%A4gerverein Hubertus":MAILTO:info@jagd-hubertus.ch
END:VEVENT
BEGIN:VEVENT
DTSTART;TZID=Europe/Zurich:20260829T140000
DTEND;TZID=Europe/Zurich:20260829T160000
DTSTAMP:20260422T171501
CREATED:20260407T115403Z
LAST-MODIFIED:20260407T115403Z
UID:10000192-1788012000-1788019200@www.jagd-hubertus.ch
SUMMARY:Jagdhornauftritt in der Waldschenke Romanshorn
DESCRIPTION:Auftritt der Jagdhornbläsergruppe Weiherweid in der Waldschenke Romanshorn.
URL:https://www.jagd-hubertus.ch/event/jagdhornauftritt-in-der-waldschenke-romanshorn/
LOCATION:Waldschenke Romanshorn\, Im Romanshorner Wald\, Romanshorn\, Thurgau\, 8590\, Schweiz
CATEGORIES:Jagdhornbläser
ATTACH;FMTTYPE=image/jpeg:https://www.jagd-hubertus.ch/wp-content/uploads/2023/08/Jagdhoerner_1.jpg
ORGANIZER;CN="Jagdhornbl%C3%A4ser Weiherweid":MAILTO:dominik@ruggisberg.ch
END:VEVENT
BEGIN:VEVENT
DTSTART;TZID=Europe/Zurich:20260831T190000
DTEND;TZID=Europe/Zurich:20260831T200000
DTSTAMP:20260422T171501
CREATED:20260224T091458Z
LAST-MODIFIED:20260224T091458Z
UID:10000186-1788202800-1788206400@www.jagd-hubertus.ch
SUMMARY:Jagdhundetraining Hubertus
DESCRIPTION:Die Montagsübungen beginnen um 19:00 Uhr\, es braucht keine Anmeldung.\n\nDaten: 13. April; 27. April; 11. Mai; 01. Juni; 15. Juni; 29. Juni\, 13. Juli; Sommerpause; 03. August\, 17. August\, 31. August (Schlussübung)\n\nAuskünfte: Richard Sätteli
URL:https://www.jagd-hubertus.ch/event/jagdhundetraining-hubertus/2026-08-31/
LOCATION:Jagdschiessanlage Erlenholz\, Jagdschiessanlage Hubertus\, 9300 Wittenbach
CATEGORIES:Hunde Termine
ATTACH;FMTTYPE=image/jpeg:https://www.jagd-hubertus.ch/wp-content/uploads/2023/02/IMG_7951_1200x900.jpeg
ORGANIZER;CN="Richard S%C3%A4tteli":MAILTO:info@saetteli.ch
END:VEVENT
BEGIN:VEVENT
DTSTART;TZID=Europe/Zurich:20260925T163000
DTEND;TZID=Europe/Zurich:20260925T193000
DTSTAMP:20260422T171501
CREATED:20251220T162722Z
LAST-MODIFIED:20251220T162722Z
UID:10000165-1790353800-1790364600@www.jagd-hubertus.ch
SUMMARY:Letzter Schiesstag
DESCRIPTION:Am Freitag dem 25. September 2026 ist die Schiessanlage ein letztes Mal geöffnet.
URL:https://www.jagd-hubertus.ch/event/letzter-schiesstag-3/
LOCATION:Jagdschiessanlage Erlenholz\, Jagdschiessanlage Hubertus\, 9300 Wittenbach
CATEGORIES:Allgemein
ATTACH;FMTTYPE=image/jpeg:https://www.jagd-hubertus.ch/wp-content/uploads/2023/07/IMG_2073-Kopie.jpg
END:VEVENT
BEGIN:VEVENT
DTSTART;TZID=Europe/Zurich:20260927T100000
DTEND;TZID=Europe/Zurich:20260927T110000
DTSTAMP:20260422T171501
CREATED:20260326T105709Z
LAST-MODIFIED:20260326T105709Z
UID:10000187-1790503200-1790506800@www.jagd-hubertus.ch
SUMMARY:Sonntagsgottesdienst mit der Jagdhornbläsergruppe Schlaufuchs
DESCRIPTION:Sonntagsgottesdienst mit musikalischer Gestaltung durch die Jagdhornbläsergruppe Schlaufuchs in der Kirche St. Martin.
URL:https://www.jagd-hubertus.ch/event/sonntagsgottesdienst-mit-der-jagdhornblaesergruppe-schlaufuchs/
LOCATION:Kirche St. Martin\, Kirchstrasse 3\, Jonschwil\, 9243
CATEGORIES:Jagdhornbläser
ATTACH;FMTTYPE=image/jpeg:https://www.jagd-hubertus.ch/wp-content/uploads/2023/08/Jagdhoerner_1.jpg
ORGANIZER;CN="Jagdhornbl%C3%A4ser Schlaufuchs Es":MAILTO:b.haertsch@thurweb.ch
END:VEVENT
BEGIN:VEVENT
DTSTART;VALUE=DATE:20260928
DTEND;VALUE=DATE:20260929
DTSTAMP:20260422T171501
CREATED:20251220T163239Z
LAST-MODIFIED:20251220T163239Z
UID:10000166-1790553600-1790639999@www.jagd-hubertus.ch
SUMMARY:Baubeginn "Sanierung Blockhaus Erlenholz"
DESCRIPTION:
URL:https://www.jagd-hubertus.ch/event/baubeginn-sanierung-blockhaus-erlenholz/
LOCATION:Blockhaus Erlenholz\, Jagdschiessanlage Hubertus\, 9300 Wittenbach
ATTACH;FMTTYPE=image/jpeg:https://www.jagd-hubertus.ch/wp-content/uploads/2025/12/Baustelle.jpg
ORGANIZER;CN="St. Gallischer J%C3%A4gerverein Hubertus":MAILTO:info@jagd-hubertus.ch
END:VEVENT
BEGIN:VEVENT
DTSTART;TZID=Europe/Zurich:20261018T103000
DTEND;TZID=Europe/Zurich:20261018T120000
DTSTAMP:20260422T171501
CREATED:20260407T120000Z
LAST-MODIFIED:20260407T120000Z
UID:10000193-1792319400-1792324800@www.jagd-hubertus.ch
SUMMARY:Hubertusmesse in Mels
DESCRIPTION:
URL:https://www.jagd-hubertus.ch/event/hubertusmesse-in-mels/
LOCATION:Klosterkirche Mels\, Klosterweg 6\, Mels\, 8887\, Schweiz
CATEGORIES:Hubertusmesse,Jagdhornbläser
ATTACH;FMTTYPE=image/jpeg:https://www.jagd-hubertus.ch/wp-content/uploads/2023/10/Bild-2.jpg
ORGANIZER;CN="Jagdhornbl%C3%A4ser Weiherweid":MAILTO:dominik@ruggisberg.ch
END:VEVENT
BEGIN:VEVENT
DTSTART;TZID=Europe/Zurich:20261108T101500
DTEND;TZID=Europe/Zurich:20261108T113000
DTSTAMP:20260422T171501
CREATED:20260326T110606Z
LAST-MODIFIED:20260326T110606Z
UID:10000188-1794132900-1794137400@www.jagd-hubertus.ch
SUMMARY:Hubertus-Messe in Flawil
DESCRIPTION:Hubertus-Messe in der Kirche St. Laurentius Flawil mit der Jagdhornbläsergruppe Schlaufuchs.
URL:https://www.jagd-hubertus.ch/event/hubertus-messe-in-flawil/
LOCATION:Kirche St. Laurentius\, Enzenbühlstrasse 20\, Flawil\, SG\, 9230\, Switzerland
CATEGORIES:Hubertusmesse,Jagdhornbläser
ATTACH;FMTTYPE=image/png:https://www.jagd-hubertus.ch/wp-content/uploads/2023/09/Hubertus-Messe-Symbolbild-2.png
ORGANIZER;CN="Jagdhornbl%C3%A4ser Schlaufuchs Es":MAILTO:b.haertsch@thurweb.ch
END:VEVENT
BEGIN:VEVENT
DTSTART;TZID=Europe/Zurich:20261115T100000
DTEND;TZID=Europe/Zurich:20261115T113000
DTSTAMP:20260422T171502
CREATED:20260407T120336Z
LAST-MODIFIED:20260407T120336Z
UID:10000194-1794736800-1794742200@www.jagd-hubertus.ch
SUMMARY:Hubertusmesse Zürich mit Brevetierung
DESCRIPTION:
URL:https://www.jagd-hubertus.ch/event/hubertusmesse-zuerich-mit-brevetierung/
CATEGORIES:Hubertusmesse,Jagdhornbläser
ATTACH;FMTTYPE=image/jpeg:https://www.jagd-hubertus.ch/wp-content/uploads/2023/10/Bild-2.jpg
ORGANIZER;CN="Jagdhornbl%C3%A4ser Weiherweid":MAILTO:dominik@ruggisberg.ch
END:VEVENT
BEGIN:VEVENT
DTSTART;TZID=Europe/Zurich:20261121T170000
DTEND;TZID=Europe/Zurich:20261121T220000
DTSTAMP:20260422T171502
CREATED:20260407T120654Z
LAST-MODIFIED:20260407T120654Z
UID:10000195-1795280400-1795298400@www.jagd-hubertus.ch
SUMMARY:Wildabend Kloster Fischingen
DESCRIPTION:
URL:https://www.jagd-hubertus.ch/event/wildabend-kloster-fischingen/
LOCATION:Klosterkirche Fischingen\, Kloster\, Fischingen\, Thurgau\, 8376
CATEGORIES:Jagdhornbläser
ATTACH;FMTTYPE=image/jpeg:https://www.jagd-hubertus.ch/wp-content/uploads/2023/08/Jagdhoerner_1.jpg
ORGANIZER;CN="Jagdhornbl%C3%A4ser Weiherweid":MAILTO:dominik@ruggisberg.ch
END:VEVENT
BEGIN:VEVENT
DTSTART;TZID=Europe/Zurich:20261122T110000
DTEND;TZID=Europe/Zurich:20261122T120000
DTSTAMP:20260422T171502
CREATED:20260326T111152Z
LAST-MODIFIED:20260326T111152Z
UID:10000189-1795345200-1795348800@www.jagd-hubertus.ch
SUMMARY:Hubertusmesse in Wil
DESCRIPTION:Hubertus-Messe in der Stadtkirche St. Nikolaus Wil mit der Jagdhornbläsergruppe Schlaufuchs.
URL:https://www.jagd-hubertus.ch/event/hubertusmesse-in-wil/
LOCATION:Kirche St. Nikolaus\, Kirchgasse 43\, Wil\, 9500
CATEGORIES:Hubertusmesse,Jagdhornbläser
ATTACH;FMTTYPE=image/png:https://www.jagd-hubertus.ch/wp-content/uploads/2023/09/Hubertus-Messe-Symbolbild-1.png
ORGANIZER;CN="Jagdhornbl%C3%A4ser Schlaufuchs Es":MAILTO:b.haertsch@thurweb.ch
END:VEVENT
BEGIN:VEVENT
DTSTART;VALUE=DATE:20270227
DTEND;VALUE=DATE:20270228
DTSTAMP:20260422T171502
CREATED:20251220T164346Z
LAST-MODIFIED:20251220T164346Z
UID:10000167-1803686400-1803772799@www.jagd-hubertus.ch
SUMMARY:Säulischiessen 2027 (provisorischer Termin)
DESCRIPTION:
URL:https://www.jagd-hubertus.ch/event/saeulischiessen-2027-provisorischer-termin/
LOCATION:Jagdschiessanlage Erlenholz\, Jagdschiessanlage Hubertus\, 9300 Wittenbach
ATTACH;FMTTYPE=image/jpeg:https://www.jagd-hubertus.ch/wp-content/uploads/2025/03/MPS_1810-2.jpg
ORGANIZER;CN="St. Gallischer J%C3%A4gerverein Hubertus":MAILTO:info@jagd-hubertus.ch
END:VEVENT
END:VCALENDAR