BEGIN:VCALENDAR
VERSION:2.0
PRODID:-//Hubertus Jagdgesellschaft - ECPv6.15.13//NONSGML v1.0//EN
CALSCALE:GREGORIAN
METHOD:PUBLISH
X-ORIGINAL-URL:https://www.jagd-hubertus.ch
X-WR-CALDESC:Veranstaltungen für Hubertus Jagdgesellschaft
REFRESH-INTERVAL;VALUE=DURATION:PT1H
X-Robots-Tag:noindex
X-PUBLISHED-TTL:PT1H
BEGIN:VTIMEZONE
TZID:Europe/Zurich
BEGIN:DAYLIGHT
TZOFFSETFROM:+0100
TZOFFSETTO:+0200
TZNAME:CEST
DTSTART:20220327T010000
END:DAYLIGHT
BEGIN:STANDARD
TZOFFSETFROM:+0200
TZOFFSETTO:+0100
TZNAME:CET
DTSTART:20221030T010000
END:STANDARD
BEGIN:DAYLIGHT
TZOFFSETFROM:+0100
TZOFFSETTO:+0200
TZNAME:CEST
DTSTART:20230326T010000
END:DAYLIGHT
BEGIN:STANDARD
TZOFFSETFROM:+0200
TZOFFSETTO:+0100
TZNAME:CET
DTSTART:20231029T010000
END:STANDARD
BEGIN:DAYLIGHT
TZOFFSETFROM:+0100
TZOFFSETTO:+0200
TZNAME:CEST
DTSTART:20240331T010000
END:DAYLIGHT
BEGIN:STANDARD
TZOFFSETFROM:+0200
TZOFFSETTO:+0100
TZNAME:CET
DTSTART:20241027T010000
END:STANDARD
BEGIN:DAYLIGHT
TZOFFSETFROM:+0100
TZOFFSETTO:+0200
TZNAME:CEST
DTSTART:20250330T010000
END:DAYLIGHT
BEGIN:STANDARD
TZOFFSETFROM:+0200
TZOFFSETTO:+0100
TZNAME:CET
DTSTART:20251026T010000
END:STANDARD
END:VTIMEZONE
BEGIN:VEVENT
DTSTART;TZID=Europe/Zurich:20240902T190000
DTEND;TZID=Europe/Zurich:20240902T210000
DTSTAMP:20260422T185754
CREATED:20240207T101348Z
LAST-MODIFIED:20240207T101622Z
UID:10000119-1725303600-1725310800@www.jagd-hubertus.ch
SUMMARY:Jagdhundetraining im Erlenholz
DESCRIPTION:Schlussübung –\nAuskünfte erteilt: Richard Sätteli\, 079 416 48 62\, oder info@saetteli.ch
URL:https://www.jagd-hubertus.ch/event/jagdhundetraining-im-erlenholz-10/
LOCATION:Jagdschiessanlage Erlenholz\, Jagdschiessanlage Hubertus\, 9300 Wittenbach
CATEGORIES:Hunde Termine
ATTACH;FMTTYPE=image/jpeg:https://www.jagd-hubertus.ch/wp-content/uploads/2023/12/Anschuss.jpg
ORGANIZER;CN="St. Gallischer J%C3%A4gerverein Hubertus":MAILTO:info@jagd-hubertus.ch
END:VEVENT
BEGIN:VEVENT
DTSTART;VALUE=DATE:20240824
DTEND;VALUE=DATE:20240825
DTSTAMP:20260422T185754
CREATED:20221219T111931Z
LAST-MODIFIED:20240807T163637Z
UID:10000046-1724457600-1724543999@www.jagd-hubertus.ch
SUMMARY:Trophäenbewertung
DESCRIPTION:Annahme der Trophäen bis am 23. August 2024.
URL:https://www.jagd-hubertus.ch/event/trophaeenbewertung-annahme-der-trophaeen-bis-am-25-august/
LOCATION:Blockhaus Erlenholz\, Jagdschiessanlage Hubertus\, 9300 Wittenbach
CATEGORIES:Allgemein
ATTACH;FMTTYPE=image/jpeg:https://www.jagd-hubertus.ch/wp-content/uploads/2023/12/Trophaee.jpg
ORGANIZER;CN="St. Gallischer J%C3%A4gerverein Hubertus":MAILTO:info@jagd-hubertus.ch
END:VEVENT
BEGIN:VEVENT
DTSTART;TZID=Europe/Zurich:20240819T190000
DTEND;TZID=Europe/Zurich:20240819T210000
DTSTAMP:20260422T185754
CREATED:20240207T101307Z
LAST-MODIFIED:20240207T101307Z
UID:10000118-1724094000-1724101200@www.jagd-hubertus.ch
SUMMARY:Jagdhundetraining im Erlenholz
DESCRIPTION:Die Montagsübungen beginnen um 19 Uhr\, es braucht keine Anmeldung.\nAuskünfte erteilt: Richard Sätteli\, 079 416 48 62\, oder info@saetteli.ch
URL:https://www.jagd-hubertus.ch/event/jagdhundetraining-im-erlenholz-9/
LOCATION:Jagdschiessanlage Erlenholz\, Jagdschiessanlage Hubertus\, 9300 Wittenbach
CATEGORIES:Hunde Termine
ATTACH;FMTTYPE=image/jpeg:https://www.jagd-hubertus.ch/wp-content/uploads/2023/12/Anschuss.jpg
ORGANIZER;CN="St. Gallischer J%C3%A4gerverein Hubertus":MAILTO:info@jagd-hubertus.ch
END:VEVENT
BEGIN:VEVENT
DTSTART;TZID=Europe/Zurich:20240805T190000
DTEND;TZID=Europe/Zurich:20240805T210000
DTSTAMP:20260422T185754
CREATED:20240207T101240Z
LAST-MODIFIED:20240207T101240Z
UID:10000117-1722884400-1722891600@www.jagd-hubertus.ch
SUMMARY:Jagdhundetraining im Erlenholz
DESCRIPTION:Die Montagsübungen beginnen um 19 Uhr\, es braucht keine Anmeldung.\nAuskünfte erteilt: Richard Sätteli\, 079 416 48 62\, oder info@saetteli.ch
URL:https://www.jagd-hubertus.ch/event/jagdhundetraining-im-erlenholz-8/
LOCATION:Jagdschiessanlage Erlenholz\, Jagdschiessanlage Hubertus\, 9300 Wittenbach
CATEGORIES:Hunde Termine
ATTACH;FMTTYPE=image/jpeg:https://www.jagd-hubertus.ch/wp-content/uploads/2023/12/Anschuss.jpg
ORGANIZER;CN="St. Gallischer J%C3%A4gerverein Hubertus":MAILTO:info@jagd-hubertus.ch
END:VEVENT
BEGIN:VEVENT
DTSTART;TZID=Europe/Zurich:20240708T190000
DTEND;TZID=Europe/Zurich:20240708T210000
DTSTAMP:20260422T185754
CREATED:20240207T101205Z
LAST-MODIFIED:20240207T101205Z
UID:10000116-1720465200-1720472400@www.jagd-hubertus.ch
SUMMARY:Jagdhundetraining im Erlenholz
DESCRIPTION:Die Montagsübungen beginnen um 19 Uhr\, es braucht keine Anmeldung.\nAuskünfte erteilt: Richard Sätteli\, 079 416 48 62\, oder info@saetteli.ch
URL:https://www.jagd-hubertus.ch/event/jagdhundetraining-im-erlenholz-7/
LOCATION:Jagdschiessanlage Erlenholz\, Jagdschiessanlage Hubertus\, 9300 Wittenbach
CATEGORIES:Hunde Termine
ATTACH;FMTTYPE=image/jpeg:https://www.jagd-hubertus.ch/wp-content/uploads/2023/12/Anschuss.jpg
ORGANIZER;CN="St. Gallischer J%C3%A4gerverein Hubertus":MAILTO:info@jagd-hubertus.ch
END:VEVENT
BEGIN:VEVENT
DTSTART;TZID=Europe/Zurich:20240624T190000
DTEND;TZID=Europe/Zurich:20240624T210000
DTSTAMP:20260422T185754
CREATED:20240207T101135Z
LAST-MODIFIED:20240207T101135Z
UID:10000115-1719255600-1719262800@www.jagd-hubertus.ch
SUMMARY:Jagdhundetraining im Erlenholz
DESCRIPTION:Die Montagsübungen beginnen um 19 Uhr\, es braucht keine Anmeldung.\nAuskünfte erteilt: Richard Sätteli\, 079 416 48 62\, oder info@saetteli.ch
URL:https://www.jagd-hubertus.ch/event/jagdhundetraining-im-erlenholz-6/
LOCATION:Jagdschiessanlage Erlenholz\, Jagdschiessanlage Hubertus\, 9300 Wittenbach
CATEGORIES:Hunde Termine
ATTACH;FMTTYPE=image/jpeg:https://www.jagd-hubertus.ch/wp-content/uploads/2023/12/Anschuss.jpg
ORGANIZER;CN="St. Gallischer J%C3%A4gerverein Hubertus":MAILTO:info@jagd-hubertus.ch
END:VEVENT
BEGIN:VEVENT
DTSTART;TZID=Europe/Zurich:20240615T070000
DTEND;TZID=Europe/Zurich:20240615T120000
DTSTAMP:20260422T185754
CREATED:20231228T103406Z
LAST-MODIFIED:20231228T103406Z
UID:10000096-1718434800-1718452800@www.jagd-hubertus.ch
SUMMARY:1. Arbeitstag im Erlenholz
DESCRIPTION: \n\n 
URL:https://www.jagd-hubertus.ch/event/1-arbeitstag-im-erlenholz/
LOCATION:Jagdschiessanlage Erlenholz\, Jagdschiessanlage Hubertus\, 9300 Wittenbach
CATEGORIES:Allgemein,Schiessanlässe
ATTACH;FMTTYPE=image/jpeg:https://www.jagd-hubertus.ch/wp-content/uploads/2023/12/Arbeitstag.jpg
ORGANIZER;CN="St. Gallischer J%C3%A4gerverein Hubertus":MAILTO:info@jagd-hubertus.ch
END:VEVENT
BEGIN:VEVENT
DTSTART;TZID=Europe/Zurich:20240610T190000
DTEND;TZID=Europe/Zurich:20240610T210000
DTSTAMP:20260422T185754
CREATED:20240207T101105Z
LAST-MODIFIED:20240207T101105Z
UID:10000114-1718046000-1718053200@www.jagd-hubertus.ch
SUMMARY:Jagdhundetraining im Erlenholz
DESCRIPTION:Die Montagsübungen beginnen um 19 Uhr\, es braucht keine Anmeldung.\nAuskünfte erteilt: Richard Sätteli\, 079 416 48 62\, oder info@saetteli.ch
URL:https://www.jagd-hubertus.ch/event/jagdhundetraining-im-erlenholz-5/
LOCATION:Jagdschiessanlage Erlenholz\, Jagdschiessanlage Hubertus\, 9300 Wittenbach
CATEGORIES:Hunde Termine
ATTACH;FMTTYPE=image/jpeg:https://www.jagd-hubertus.ch/wp-content/uploads/2023/12/Anschuss.jpg
ORGANIZER;CN="St. Gallischer J%C3%A4gerverein Hubertus":MAILTO:info@jagd-hubertus.ch
END:VEVENT
BEGIN:VEVENT
DTSTART;TZID=Europe/Zurich:20240527T190000
DTEND;TZID=Europe/Zurich:20240527T210000
DTSTAMP:20260422T185754
CREATED:20240207T101003Z
LAST-MODIFIED:20240207T101032Z
UID:10000113-1716836400-1716843600@www.jagd-hubertus.ch
SUMMARY:Jagdhundetraining im Erlenholz
DESCRIPTION:Die Montagsübungen beginnen um 19 Uhr\, es braucht keine Anmeldung.\nAuskünfte erteilt: Richard Sätteli\, 079 416 48 62\, oder info@saetteli.ch
URL:https://www.jagd-hubertus.ch/event/jagdhundetraining-im-erlenholz-4/
LOCATION:Jagdschiessanlage Erlenholz\, Jagdschiessanlage Hubertus\, 9300 Wittenbach
CATEGORIES:Hunde Termine
ATTACH;FMTTYPE=image/jpeg:https://www.jagd-hubertus.ch/wp-content/uploads/2023/12/Anschuss.jpg
ORGANIZER;CN="St. Gallischer J%C3%A4gerverein Hubertus":MAILTO:info@jagd-hubertus.ch
END:VEVENT
BEGIN:VEVENT
DTSTART;TZID=Europe/Zurich:20240513T190000
DTEND;TZID=Europe/Zurich:20240513T210000
DTSTAMP:20260422T185754
CREATED:20240207T100930Z
LAST-MODIFIED:20240207T100930Z
UID:10000112-1715626800-1715634000@www.jagd-hubertus.ch
SUMMARY:Jagdhundetraining im Erlenholz
DESCRIPTION:Die Montagsübungen beginnen um 19 Uhr\, es braucht keine Anmeldung.\nAuskünfte erteilt: Richard Sätteli\, 079 416 48 62\, oder info@saetteli.ch
URL:https://www.jagd-hubertus.ch/event/jagdhundetraining-im-erlenholz-3/
LOCATION:Jagdschiessanlage Erlenholz\, Jagdschiessanlage Hubertus\, 9300 Wittenbach
CATEGORIES:Hunde Termine
ATTACH;FMTTYPE=image/jpeg:https://www.jagd-hubertus.ch/wp-content/uploads/2023/12/Anschuss.jpg
ORGANIZER;CN="St. Gallischer J%C3%A4gerverein Hubertus":MAILTO:info@jagd-hubertus.ch
END:VEVENT
BEGIN:VEVENT
DTSTART;TZID=Europe/Zurich:20240429T190000
DTEND;TZID=Europe/Zurich:20240429T210000
DTSTAMP:20260422T185754
CREATED:20240207T100854Z
LAST-MODIFIED:20240207T100854Z
UID:10000111-1714417200-1714424400@www.jagd-hubertus.ch
SUMMARY:Jagdhundetraining im Erlenholz
DESCRIPTION:Die Montagsübungen beginnen um 19 Uhr\, es braucht keine Anmeldung.\nAuskünfte erteilt: Richard Sätteli\, 079 416 48 62\, oder info@saetteli.ch
URL:https://www.jagd-hubertus.ch/event/jagdhundetraining-im-erlenholz-2/
LOCATION:Jagdschiessanlage Erlenholz\, Jagdschiessanlage Hubertus\, 9300 Wittenbach
CATEGORIES:Hunde Termine
ATTACH;FMTTYPE=image/jpeg:https://www.jagd-hubertus.ch/wp-content/uploads/2023/12/Anschuss.jpg
ORGANIZER;CN="St. Gallischer J%C3%A4gerverein Hubertus":MAILTO:info@jagd-hubertus.ch
END:VEVENT
BEGIN:VEVENT
DTSTART;VALUE=DATE:20240419
DTEND;VALUE=DATE:20240420
DTSTAMP:20260422T185754
CREATED:20231228T095541Z
LAST-MODIFIED:20231228T095541Z
UID:10000093-1713484800-1713571199@www.jagd-hubertus.ch
SUMMARY:Schiessanlage geschlossen (Frühlings-Schiessen 300-m-Schützen)
DESCRIPTION: \n\n 
URL:https://www.jagd-hubertus.ch/event/schiessanlage-geschlossen-fruehlings-schiessen-300-m-schuetzen/
LOCATION:Jagdschiessanlage Erlenholz\, Jagdschiessanlage Hubertus\, 9300 Wittenbach
CATEGORIES:Schiessanlässe
ATTACH;FMTTYPE=image/jpeg:https://www.jagd-hubertus.ch/wp-content/uploads/2023/12/Flintenschiessen.jpg
ORGANIZER;CN="St. Gallischer J%C3%A4gerverein Hubertus":MAILTO:info@jagd-hubertus.ch
END:VEVENT
BEGIN:VEVENT
DTSTART;TZID=Europe/Zurich:20240415T190000
DTEND;TZID=Europe/Zurich:20240415T210000
DTSTAMP:20260422T185754
CREATED:20240207T100430Z
LAST-MODIFIED:20240207T100722Z
UID:10000109-1713207600-1713214800@www.jagd-hubertus.ch
SUMMARY:Jagdhundetraining im Erlenholz
DESCRIPTION:Die Montagsübungen beginnen um 19 Uhr\, es braucht keine Anmeldung.\nAuskünfte erteilt: Richard Sätteli\, 079 416 48 62\, oder info@saetteli.ch
URL:https://www.jagd-hubertus.ch/event/jagdhundetraining-im-erlenholz/
LOCATION:Jagdschiessanlage Erlenholz\, Jagdschiessanlage Hubertus\, 9300 Wittenbach
CATEGORIES:Hunde Termine
ATTACH;FMTTYPE=image/jpeg:https://www.jagd-hubertus.ch/wp-content/uploads/2023/12/Anschuss.jpg
ORGANIZER;CN="St. Gallischer J%C3%A4gerverein Hubertus":MAILTO:info@jagd-hubertus.ch
END:VEVENT
BEGIN:VEVENT
DTSTART;TZID=Europe/Zurich:20240322T163000
DTEND;TZID=Europe/Zurich:20240322T193000
DTSTAMP:20260422T185754
CREATED:20231228T135304Z
LAST-MODIFIED:20240310T154524Z
UID:10000091-1711125000-1711135800@www.jagd-hubertus.ch
SUMMARY:Offizielle Eröffnung Schiess-Saison 2024 (offen für alle)
DESCRIPTION: \n\n 
URL:https://www.jagd-hubertus.ch/event/offizielle-eroeffnung-schiess-saison-2024-offen-fuer-alle/
LOCATION:Jagdschiessanlage Erlenholz\, Jagdschiessanlage Hubertus\, 9300 Wittenbach
CATEGORIES:Schiessanlässe
ATTACH;FMTTYPE=image/jpeg:https://www.jagd-hubertus.ch/wp-content/uploads/2023/12/Flintenschiessen.jpg
ORGANIZER;CN="St. Gallischer J%C3%A4gerverein Hubertus":MAILTO:info@jagd-hubertus.ch
END:VEVENT
BEGIN:VEVENT
DTSTART;TZID=Europe/Zurich:20240316T090000
DTEND;TZID=Europe/Zurich:20240316T120000
DTSTAMP:20260422T185754
CREATED:20231228T134837Z
LAST-MODIFIED:20231228T134837Z
UID:10000090-1710579600-1710590400@www.jagd-hubertus.ch
SUMMARY:Schiessanlage nur für Hubertus-Mitglieder geöffnet
DESCRIPTION: \n\n 
URL:https://www.jagd-hubertus.ch/event/schiessanlage-nur-fuer-hubertus-mitglieder-geoeffnet-2/
LOCATION:Jagdschiessanlage Erlenholz\, Jagdschiessanlage Hubertus\, 9300 Wittenbach
CATEGORIES:Schiessanlässe
ATTACH;FMTTYPE=image/jpeg:https://www.jagd-hubertus.ch/wp-content/uploads/2023/12/Flintenschiessen.jpg
ORGANIZER;CN="St. Gallischer J%C3%A4gerverein Hubertus":MAILTO:info@jagd-hubertus.ch
END:VEVENT
BEGIN:VEVENT
DTSTART;TZID=Europe/Zurich:20240316T080000
DTEND;TZID=Europe/Zurich:20240316T170000
DTSTAMP:20260422T185754
CREATED:20231228T095417Z
LAST-MODIFIED:20231228T095417Z
UID:10000092-1710576000-1710608400@www.jagd-hubertus.ch
SUMMARY:Anschuss-Seminar mit Tino Schenk
DESCRIPTION:Samstagmorgen: 8 bis 12 Uhr\, Samstagnachmittag: 13 bis 17 Uhr\nAnmeldung über jagdhunde@jagd-hubertus.ch\n\n 
URL:https://www.jagd-hubertus.ch/event/anschuss-seminar-mit-tino-schenk/
LOCATION:Jagdschiessanlage Erlenholz\, Jagdschiessanlage Hubertus\, 9300 Wittenbach
CATEGORIES:Hunde Termine
ATTACH;FMTTYPE=image/jpeg:https://www.jagd-hubertus.ch/wp-content/uploads/2023/12/Anschuss.jpg
ORGANIZER;CN="St. Gallischer J%C3%A4gerverein Hubertus":MAILTO:info@jagd-hubertus.ch
END:VEVENT
BEGIN:VEVENT
DTSTART;TZID=Europe/Zurich:20240315T163000
DTEND;TZID=Europe/Zurich:20240315T193000
DTSTAMP:20260422T185754
CREATED:20231228T134929Z
LAST-MODIFIED:20231228T134929Z
UID:10000089-1710520200-1710531000@www.jagd-hubertus.ch
SUMMARY:Schiessanlage nur für Hubertus-Mitglieder geöffnet
DESCRIPTION: \n\n 
URL:https://www.jagd-hubertus.ch/event/schiessanlage-nur-fuer-hubertus-mitglieder-geoeffnet-3/
LOCATION:Jagdschiessanlage Erlenholz\, Jagdschiessanlage Hubertus\, 9300 Wittenbach
CATEGORIES:Schiessanlässe
ATTACH;FMTTYPE=image/jpeg:https://www.jagd-hubertus.ch/wp-content/uploads/2023/12/Flintenschiessen.jpg
ORGANIZER;CN="St. Gallischer J%C3%A4gerverein Hubertus":MAILTO:info@jagd-hubertus.ch
END:VEVENT
BEGIN:VEVENT
DTSTART;TZID=Europe/Zurich:20240308T163000
DTEND;TZID=Europe/Zurich:20240308T183000
DTSTAMP:20260422T185754
CREATED:20231228T092155Z
LAST-MODIFIED:20231228T092155Z
UID:10000088-1709915400-1709922600@www.jagd-hubertus.ch
SUMMARY:Start Schiess-Saison 2024 (nur für Hubertus-Mitglieder)
DESCRIPTION: \n\n 
URL:https://www.jagd-hubertus.ch/event/start-schiess-saison-2024-nur-fuer-hubertus-mitglieder/
LOCATION:Jagdschiessanlage Erlenholz\, Jagdschiessanlage Hubertus\, 9300 Wittenbach
CATEGORIES:Schiessanlässe
ATTACH;FMTTYPE=image/jpeg:https://www.jagd-hubertus.ch/wp-content/uploads/2023/12/Flintenschiessen.jpg
ORGANIZER;CN="St. Gallischer J%C3%A4gerverein Hubertus":MAILTO:info@jagd-hubertus.ch
END:VEVENT
BEGIN:VEVENT
DTSTART;TZID=Europe/Zurich:20240307T163000
DTEND;TZID=Europe/Zurich:20240307T210000
DTSTAMP:20260422T185754
CREATED:20231228T091722Z
LAST-MODIFIED:20231228T092239Z
UID:10000086-1709829000-1709845200@www.jagd-hubertus.ch
SUMMARY:interner Start Schiess-Saison 2024\, reserviert für Helfer und Funktionäre (inkl. Helferessen)
DESCRIPTION: \n\n 
URL:https://www.jagd-hubertus.ch/event/interner-start-schiesssaison-2024/
LOCATION:Jagdschiessanlage Erlenholz\, Jagdschiessanlage Hubertus\, 9300 Wittenbach
CATEGORIES:Schiessanlässe
ATTACH;FMTTYPE=image/jpeg:https://www.jagd-hubertus.ch/wp-content/uploads/2023/12/Flintenschiessen.jpg
ORGANIZER;CN="St. Gallischer J%C3%A4gerverein Hubertus":MAILTO:info@jagd-hubertus.ch
END:VEVENT
BEGIN:VEVENT
DTSTART;TZID=Europe/Zurich:20240304T193000
DTEND;TZID=Europe/Zurich:20240304T230000
DTSTAMP:20260422T185754
CREATED:20231228T074125Z
LAST-MODIFIED:20231228T075429Z
UID:10000079-1709580600-1709593200@www.jagd-hubertus.ch
SUMMARY:3. Weiterbildungsabend\, «Herausforderungen für den St. Galler Wald aus Sicht der Kantonsoberförsterin»
DESCRIPTION:Referat von Caroline Heiri\, Leiterin Kantonsforstamt SG\, und im Anschluss Referat von Mario Schernthanner\, SUVA\, zum Thema «Sicherheit bei Revierarbeiten und im Jagdbetrieb»
URL:https://www.jagd-hubertus.ch/event/3-weiterbildungsabend-herausforderungen-fuer-den-st-galler-wald-aus-sicht-der-kantonsoberfoersterin/
LOCATION:Jagdschiessanlage Erlenholz\, Jagdschiessanlage Hubertus\, 9300 Wittenbach
CATEGORIES:Aus- und Weiterbildung
ATTACH;FMTTYPE=image/jpeg:https://www.jagd-hubertus.ch/wp-content/uploads/2023/12/Reh-im-Wald.jpg
ORGANIZER;CN="St. Gallischer J%C3%A4gerverein Hubertus":MAILTO:info@jagd-hubertus.ch
END:VEVENT
BEGIN:VEVENT
DTSTART;TZID=Europe/Zurich:20240302T160000
DTEND;TZID=Europe/Zurich:20240302T200000
DTSTAMP:20260422T185754
CREATED:20231228T081107Z
LAST-MODIFIED:20231228T081351Z
UID:10000082-1709395200-1709409600@www.jagd-hubertus.ch
SUMMARY:Hubertus-Hauptversammlung
DESCRIPTION:ordentliche HV mit Wahlen
URL:https://www.jagd-hubertus.ch/event/hubertus-hauptversammlung/
LOCATION:Mehrzweckhalle\, Degersheim
CATEGORIES:Versammlung
ATTACH;FMTTYPE=image/jpeg:https://www.jagd-hubertus.ch/wp-content/uploads/2023/12/Hubertus-HV.jpg
ORGANIZER;CN="St. Gallischer J%C3%A4gerverein Hubertus":MAILTO:info@jagd-hubertus.ch
END:VEVENT
BEGIN:VEVENT
DTSTART;VALUE=DATE:20231001
DTEND;VALUE=DATE:20231002
DTSTAMP:20260422T185754
CREATED:20221219T112243Z
LAST-MODIFIED:20230724T060728Z
UID:10000050-1696118400-1696204799@www.jagd-hubertus.ch
SUMMARY:3. Hubertus Alphorntreffen
DESCRIPTION:
URL:https://www.jagd-hubertus.ch/event/3-hubertus-alphorntreffen/
LOCATION:Blockhaus Erlenholz\, Jagdschiessanlage Hubertus\, 9300 Wittenbach
CATEGORIES:Allgemein
ORGANIZER;CN="St. Gallischer J%C3%A4gerverein Hubertus":MAILTO:info@jagd-hubertus.ch
END:VEVENT
BEGIN:VEVENT
DTSTART;TZID=Europe/Zurich:20230923T080000
DTEND;TZID=Europe/Zurich:20230923T120000
DTSTAMP:20260422T185754
CREATED:20221219T112211Z
LAST-MODIFIED:20230724T060655Z
UID:10000049-1695456000-1695470400@www.jagd-hubertus.ch
SUMMARY:2. Arbeitstag (08.00 – 12.00 Uhr)
DESCRIPTION:
URL:https://www.jagd-hubertus.ch/event/2-arbeitstag-08-00-12-00-uhr/
LOCATION:Blockhaus Erlenholz\, Jagdschiessanlage Hubertus\, 9300 Wittenbach
CATEGORIES:Allgemein
ORGANIZER;CN="St. Gallischer J%C3%A4gerverein Hubertus":MAILTO:info@jagd-hubertus.ch
END:VEVENT
BEGIN:VEVENT
DTSTART;VALUE=DATE:20230922
DTEND;VALUE=DATE:20230923
DTSTAMP:20260422T185754
CREATED:20221219T112150Z
LAST-MODIFIED:20230724T060601Z
UID:10000048-1695340800-1695427199@www.jagd-hubertus.ch
SUMMARY:letzter Schiesstag
DESCRIPTION:
URL:https://www.jagd-hubertus.ch/event/letzter-schiesstag/
LOCATION:Blockhaus Erlenholz\, Jagdschiessanlage Hubertus\, 9300 Wittenbach
CATEGORIES:Schiessanlässe
ORGANIZER;CN="St. Gallischer J%C3%A4gerverein Hubertus":MAILTO:info@jagd-hubertus.ch
END:VEVENT
BEGIN:VEVENT
DTSTART;VALUE=DATE:20230902
DTEND;VALUE=DATE:20230903
DTSTAMP:20260422T185754
CREATED:20221219T112023Z
LAST-MODIFIED:20230724T060515Z
UID:10000047-1693612800-1693699199@www.jagd-hubertus.ch
SUMMARY:Brennecke-Schiessen Erlenholz
DESCRIPTION:
URL:https://www.jagd-hubertus.ch/event/brennecke-schiessen-erlenholz/
LOCATION:Blockhaus Erlenholz\, Jagdschiessanlage Hubertus\, 9300 Wittenbach
CATEGORIES:Schiessanlässe
ORGANIZER;CN="St. Gallischer J%C3%A4gerverein Hubertus":MAILTO:info@jagd-hubertus.ch
END:VEVENT
BEGIN:VEVENT
DTSTART;TZID=Europe/Zurich:20230617T070000
DTEND;TZID=Europe/Zurich:20230617T120000
DTSTAMP:20260422T185754
CREATED:20221219T102808Z
LAST-MODIFIED:20230724T060232Z
UID:10000045-1686985200-1687003200@www.jagd-hubertus.ch
SUMMARY:1. Arbeitstag im Erlenholz (07.00 – 12.00 Uhr)
DESCRIPTION:
URL:https://www.jagd-hubertus.ch/event/1-arbeitstag-im-erlenholz-07-00-12-00-uhr/
LOCATION:Blockhaus Erlenholz\, Jagdschiessanlage Hubertus\, 9300 Wittenbach
CATEGORIES:Allgemein
ORGANIZER;CN="St. Gallischer J%C3%A4gerverein Hubertus":MAILTO:info@jagd-hubertus.ch
END:VEVENT
BEGIN:VEVENT
DTSTART;VALUE=DATE:20230512
DTEND;VALUE=DATE:20230514
DTSTAMP:20260422T185754
CREATED:20221219T101857Z
LAST-MODIFIED:20230724T060157Z
UID:10000044-1683849600-1684022399@www.jagd-hubertus.ch
SUMMARY:Kantonale Schiessprüfung im Erlenholz (Erlenholz am 12. Mai ordentlich geöffnet)
DESCRIPTION:
URL:https://www.jagd-hubertus.ch/event/kantonale-schiesspruefung-im-erlenholz-erlenholz-am-12-mai-ordentlich-geoeffnet/
LOCATION:Blockhaus Erlenholz\, Jagdschiessanlage Hubertus\, 9300 Wittenbach
CATEGORIES:Schiessanlässe
ORGANIZER;CN="St. Gallischer J%C3%A4gerverein Hubertus":MAILTO:info@jagd-hubertus.ch
END:VEVENT
BEGIN:VEVENT
DTSTART;VALUE=DATE:20230506
DTEND;VALUE=DATE:20230507
DTSTAMP:20260422T185754
CREATED:20221219T101820Z
LAST-MODIFIED:20230724T060026Z
UID:10000043-1683331200-1683417599@www.jagd-hubertus.ch
SUMMARY:Jagdhundetag an der RHEMA\, Altstätten
DESCRIPTION:
URL:https://www.jagd-hubertus.ch/event/jagdhundetag-an-der-rhema-altstaetten/
LOCATION:Altstätten
CATEGORIES:Allgemein
ORGANIZER;CN="St. Gallischer J%C3%A4gerverein Hubertus":MAILTO:info@jagd-hubertus.ch
END:VEVENT
BEGIN:VEVENT
DTSTART;VALUE=DATE:20230502
DTEND;VALUE=DATE:20230503
DTSTAMP:20260422T185754
CREATED:20221219T101722Z
LAST-MODIFIED:20230724T055944Z
UID:10000042-1682985600-1683071999@www.jagd-hubertus.ch
SUMMARY:Kantonale Obmännerkonferenz (mit freiem Schiessen im Erlenholz)
DESCRIPTION:
URL:https://www.jagd-hubertus.ch/event/kantonale-obmaennerkonferenz-mit-freiem-schiessen-im-erlenholz/
LOCATION:Blockhaus Erlenholz\, Jagdschiessanlage Hubertus\, 9300 Wittenbach
CATEGORIES:Schiessanlässe
ORGANIZER;CN="St. Gallischer J%C3%A4gerverein Hubertus":MAILTO:info@jagd-hubertus.ch
END:VEVENT
BEGIN:VEVENT
DTSTART;VALUE=DATE:20230429
DTEND;VALUE=DATE:20230430
DTSTAMP:20260422T185754
CREATED:20221219T101556Z
LAST-MODIFIED:20230724T055831Z
UID:10000041-1682726400-1682812799@www.jagd-hubertus.ch
SUMMARY:Hauptversammlung in Altstätten im Rahmen der RHEMA
DESCRIPTION:
URL:https://www.jagd-hubertus.ch/event/hauptversammlung-in-altstaetten-im-rahmen-der-rhema/
LOCATION:Altstätten
CATEGORIES:Allgemein
ORGANIZER;CN="St. Gallischer J%C3%A4gerverein Hubertus":MAILTO:info@jagd-hubertus.ch
END:VEVENT
END:VCALENDAR