BEGIN:VCALENDAR
VERSION:2.0
PRODID:-//Hubertus Jagdgesellschaft - ECPv6.15.13//NONSGML v1.0//EN
CALSCALE:GREGORIAN
METHOD:PUBLISH
X-WR-CALNAME:Hubertus Jagdgesellschaft
X-ORIGINAL-URL:https://www.jagd-hubertus.ch
X-WR-CALDESC:Veranstaltungen für Hubertus Jagdgesellschaft
REFRESH-INTERVAL;VALUE=DURATION:PT1H
X-Robots-Tag:noindex
X-PUBLISHED-TTL:PT1H
BEGIN:VTIMEZONE
TZID:Europe/Zurich
BEGIN:DAYLIGHT
TZOFFSETFROM:+0100
TZOFFSETTO:+0200
TZNAME:CEST
DTSTART:20220327T010000
END:DAYLIGHT
BEGIN:STANDARD
TZOFFSETFROM:+0200
TZOFFSETTO:+0100
TZNAME:CET
DTSTART:20221030T010000
END:STANDARD
BEGIN:DAYLIGHT
TZOFFSETFROM:+0100
TZOFFSETTO:+0200
TZNAME:CEST
DTSTART:20230326T010000
END:DAYLIGHT
BEGIN:STANDARD
TZOFFSETFROM:+0200
TZOFFSETTO:+0100
TZNAME:CET
DTSTART:20231029T010000
END:STANDARD
BEGIN:DAYLIGHT
TZOFFSETFROM:+0100
TZOFFSETTO:+0200
TZNAME:CEST
DTSTART:20240331T010000
END:DAYLIGHT
BEGIN:STANDARD
TZOFFSETFROM:+0200
TZOFFSETTO:+0100
TZNAME:CET
DTSTART:20241027T010000
END:STANDARD
END:VTIMEZONE
BEGIN:VEVENT
DTSTART;VALUE=DATE:20230317
DTEND;VALUE=DATE:20230319
DTSTAMP:20260422T230329
CREATED:20221219T100658Z
LAST-MODIFIED:20230724T055222Z
UID:10000035-1679011200-1679183999@www.jagd-hubertus.ch
SUMMARY:Schiessanlage nur für Hubertus-Mitglieder geöffnet
DESCRIPTION:
URL:https://www.jagd-hubertus.ch/event/schiessanlage-nur-fuer-hubertus-mitglieder-geoeffnet/
LOCATION:Blockhaus Erlenholz\, Jagdschiessanlage Hubertus\, 9300 Wittenbach
CATEGORIES:Schiessanlässe
ORGANIZER;CN="St. Gallischer J%C3%A4gerverein Hubertus":MAILTO:info@jagd-hubertus.ch
END:VEVENT
BEGIN:VEVENT
DTSTART;VALUE=DATE:20230316
DTEND;VALUE=DATE:20230317
DTSTAMP:20260422T230329
CREATED:20221219T100553Z
LAST-MODIFIED:20230724T055124Z
UID:10000034-1678924800-1679011199@www.jagd-hubertus.ch
SUMMARY:Jägerhöck im Blockhaus (lockeres Zusammensitzen mit jagdlicher Verpflegung)
DESCRIPTION:
URL:https://www.jagd-hubertus.ch/event/jaegerhoeck-im-blockhaus-lockeres-zusammensitzen-mit-jagdlicher-verpflegung-3/
LOCATION:Blockhaus Erlenholz\, Jagdschiessanlage Hubertus\, 9300 Wittenbach
CATEGORIES:Allgemein
ORGANIZER;CN="St. Gallischer J%C3%A4gerverein Hubertus":MAILTO:info@jagd-hubertus.ch
END:VEVENT
BEGIN:VEVENT
DTSTART;VALUE=DATE:20230310
DTEND;VALUE=DATE:20230311
DTSTAMP:20260422T230329
CREATED:20221219T095413Z
LAST-MODIFIED:20230724T054924Z
UID:10000033-1678406400-1678492799@www.jagd-hubertus.ch
SUMMARY:Start Schiess-Saison 2023 nur für Hubertus-Mitglieder
DESCRIPTION:
URL:https://www.jagd-hubertus.ch/event/start-schiess-saison-2023-nur-fuer-hubertus-mitglieder/
LOCATION:Blockhaus Erlenholz\, Jagdschiessanlage Hubertus\, 9300 Wittenbach
CATEGORIES:Schiessanlässe
ORGANIZER;CN="St. Gallischer J%C3%A4gerverein Hubertus":MAILTO:info@jagd-hubertus.ch
END:VEVENT
BEGIN:VEVENT
DTSTART;VALUE=DATE:20230309
DTEND;VALUE=DATE:20230310
DTSTAMP:20260422T230329
CREATED:20221219T094927Z
LAST-MODIFIED:20230724T054841Z
UID:10000032-1678320000-1678406399@www.jagd-hubertus.ch
SUMMARY:interner Start Schiess-Saison 2023 (reserviert für Helfer\, inkl. Helferessen)
DESCRIPTION:
URL:https://www.jagd-hubertus.ch/event/interner-start-schiess-saison-2023-reserviert-fuer-helfer-inkl-helferessen/
LOCATION:Jagdschiessanlage Erlenholz\, Jagdschiessanlage Hubertus\, 9300 Wittenbach
CATEGORIES:Schiessanlässe
ORGANIZER;CN="St. Gallischer J%C3%A4gerverein Hubertus":MAILTO:info@jagd-hubertus.ch
END:VEVENT
BEGIN:VEVENT
DTSTART;TZID=Europe/Zurich:20230306T193000
DTEND;TZID=Europe/Zurich:20230306T223000
DTSTAMP:20260422T230329
CREATED:20221219T131554Z
LAST-MODIFIED:20230724T054737Z
UID:10000056-1678131000-1678141800@www.jagd-hubertus.ch
SUMMARY:Neuerungen\, Trends im Bereich der Jagdwaffen
DESCRIPTION:
URL:https://www.jagd-hubertus.ch/event/neuerungen-trends-im-bereich-der-jagdwaffen/
LOCATION:Blockhaus Erlenholz\, Jagdschiessanlage Hubertus\, 9300 Wittenbach
CATEGORIES:Aus- und Weiterbildung
ORGANIZER;CN="St. Gallischer J%C3%A4gerverein Hubertus":MAILTO:info@jagd-hubertus.ch
END:VEVENT
BEGIN:VEVENT
DTSTART;TZID=Europe/Zurich:20230306T193000
DTEND;TZID=Europe/Zurich:20230306T220000
DTSTAMP:20260422T230329
CREATED:20221219T094815Z
LAST-MODIFIED:20230724T054603Z
UID:10000031-1678131000-1678140000@www.jagd-hubertus.ch
SUMMARY:3. Weiterbildungsabend im Erlenholz (Neuerungen bei Jagdwaffen und Zubehör)
DESCRIPTION:
URL:https://www.jagd-hubertus.ch/event/3-weiterbildungsabend-im-erlenholz-neuerungen-bei-jagdwaffen-und-zubehoer/
LOCATION:Blockhaus Erlenholz\, Jagdschiessanlage Hubertus\, 9300 Wittenbach
CATEGORIES:Aus- und Weiterbildung
ORGANIZER;CN="St. Gallischer J%C3%A4gerverein Hubertus":MAILTO:info@jagd-hubertus.ch
END:VEVENT
BEGIN:VEVENT
DTSTART;TZID=Europe/Zurich:20230206T193000
DTEND;TZID=Europe/Zurich:20230206T223000
DTSTAMP:20260422T230329
CREATED:20221219T131522Z
LAST-MODIFIED:20230724T054506Z
UID:10000055-1675711800-1675722600@www.jagd-hubertus.ch
SUMMARY:Wildtiere in der Stadt und Regulation im Siedlungsraum
DESCRIPTION:
URL:https://www.jagd-hubertus.ch/event/wildtiere-in-der-stadt-und-regulation-im-siedlungsraum/
LOCATION:Blockhaus Erlenholz\, Jagdschiessanlage Hubertus\, 9300 Wittenbach
CATEGORIES:Aus- und Weiterbildung
ORGANIZER;CN="St. Gallischer J%C3%A4gerverein Hubertus":MAILTO:info@jagd-hubertus.ch
END:VEVENT
BEGIN:VEVENT
DTSTART;TZID=Europe/Zurich:20230206T183000
DTEND;TZID=Europe/Zurich:20230206T220000
DTSTAMP:20260422T230329
CREATED:20221219T093853Z
LAST-MODIFIED:20230724T054039Z
UID:10000029-1675708200-1675720800@www.jagd-hubertus.ch
SUMMARY:2. Weiterbildungsabend im Erlenholz (Stadt-Wildtiere\, Regulation im Siedlungsraum)
DESCRIPTION:
URL:https://www.jagd-hubertus.ch/event/2-weiterbildungsabend-im-erlenholz-stadt-wildtiere-regulation-im-siedlungsraum/
LOCATION:Blockhaus Erlenholz\, Jagdschiessanlage Hubertus\, 9300 Wittenbach
CATEGORIES:Aus- und Weiterbildung
ORGANIZER;CN="St. Gallischer J%C3%A4gerverein Hubertus":MAILTO:info@jagd-hubertus.ch
END:VEVENT
BEGIN:VEVENT
DTSTART;VALUE=DATE:20230204
DTEND;VALUE=DATE:20230205
DTSTAMP:20260422T230329
CREATED:20221219T093145Z
LAST-MODIFIED:20230724T053747Z
UID:10000028-1675468800-1675555199@www.jagd-hubertus.ch
SUMMARY:Säuli-Schiessen mit Metzgete
DESCRIPTION:
URL:https://www.jagd-hubertus.ch/event/saeuli-schiessen-mit-metzgete/
LOCATION:Blockhaus Erlenholz\, Jagdschiessanlage Hubertus\, 9300 Wittenbach
CATEGORIES:Schiessanlässe
ORGANIZER;CN="St. Gallischer J%C3%A4gerverein Hubertus":MAILTO:info@jagd-hubertus.ch
END:VEVENT
BEGIN:VEVENT
DTSTART;VALUE=DATE:20230119
DTEND;VALUE=DATE:20230120
DTSTAMP:20260422T230329
CREATED:20221219T093039Z
LAST-MODIFIED:20230724T053459Z
UID:10000027-1674086400-1674172799@www.jagd-hubertus.ch
SUMMARY:Jägerhöck im Blockhaus (lockeres Zusammensitzen mit jagdlicher Verpflegung)
DESCRIPTION:
URL:https://www.jagd-hubertus.ch/event/jaegerhoeck-im-blockhaus-lockeres-zusammensitzen-mit-jagdlicher-verpflegung/
LOCATION:Blockhaus Erlenholz\, Jagdschiessanlage Hubertus\, 9300 Wittenbach
CATEGORIES:Allgemein
ORGANIZER;CN="St. Gallischer J%C3%A4gerverein Hubertus":MAILTO:info@jagd-hubertus.ch
END:VEVENT
BEGIN:VEVENT
DTSTART;VALUE=DATE:20230116
DTEND;VALUE=DATE:20230117
DTSTAMP:20260422T230329
CREATED:20221219T094037Z
LAST-MODIFIED:20230724T053117Z
UID:10000030-1673827200-1673913599@www.jagd-hubertus.ch
SUMMARY:Jägerhöck im Blockhaus
DESCRIPTION:lockeres Zusammensitzen mit jagdlicher Verpflegung
URL:https://www.jagd-hubertus.ch/event/jaegerhoeck-im-blockhaus-lockeres-zusammensitzen-mit-jagdlicher-verpflegung-2/
LOCATION:Blockhaus Erlenholz\, Jagdschiessanlage Hubertus\, 9300 Wittenbach
CATEGORIES:Allgemein
ORGANIZER;CN="St. Gallischer J%C3%A4gerverein Hubertus":MAILTO:info@jagd-hubertus.ch
END:VEVENT
BEGIN:VEVENT
DTSTART;TZID=Europe/Zurich:20230109T193000
DTEND;TZID=Europe/Zurich:20230109T223000
DTSTAMP:20260422T230329
CREATED:20221219T131429Z
LAST-MODIFIED:20230724T052746Z
UID:10000054-1673292600-1673303400@www.jagd-hubertus.ch
SUMMARY:Wald-Wild\, Pilotprojekt Verbiss Aufnahme u.a.m.
DESCRIPTION:
URL:https://www.jagd-hubertus.ch/event/wald-wild-pilotprojekt-verbiss-aufnahme-u-a-m/
LOCATION:Blockhaus Erlenholz\, Jagdschiessanlage Hubertus\, 9300 Wittenbach
CATEGORIES:Aus- und Weiterbildung
ORGANIZER;CN="St. Gallischer J%C3%A4gerverein Hubertus":MAILTO:info@jagd-hubertus.ch
END:VEVENT
BEGIN:VEVENT
DTSTART;TZID=Europe/Zurich:20230109T183000
DTEND;TZID=Europe/Zurich:20230109T220000
DTSTAMP:20260422T230329
CREATED:20221219T091522Z
LAST-MODIFIED:20230724T052451Z
UID:10000025-1673289000-1673301600@www.jagd-hubertus.ch
SUMMARY:1. Weiterbildungsabend im Erlenholz (Wald-Wild\, Verbiss Aufnahme-Pilotprojekt)
DESCRIPTION:
URL:https://www.jagd-hubertus.ch/event/1-weiterbildungsabend-im-erlenholz-wald-wild-verbiss-aufnahme-pilotprojekt/
LOCATION:Blockhaus Erlenholz\, Jagdschiessanlage Hubertus\, 9300 Wittenbach
CATEGORIES:Aus- und Weiterbildung
ORGANIZER;CN="St. Gallischer J%C3%A4gerverein Hubertus":MAILTO:info@jagd-hubertus.ch
END:VEVENT
END:VCALENDAR