BEGIN:VCALENDAR
VERSION:2.0
PRODID:-//Hubertus Jagdgesellschaft - ECPv6.15.13//NONSGML v1.0//EN
CALSCALE:GREGORIAN
METHOD:PUBLISH
X-ORIGINAL-URL:https://www.jagd-hubertus.ch
X-WR-CALDESC:Veranstaltungen für Hubertus Jagdgesellschaft
REFRESH-INTERVAL;VALUE=DURATION:PT1H
X-Robots-Tag:noindex
X-PUBLISHED-TTL:PT1H
BEGIN:VTIMEZONE
TZID:Europe/Zurich
BEGIN:DAYLIGHT
TZOFFSETFROM:+0100
TZOFFSETTO:+0200
TZNAME:CEST
DTSTART:20250330T010000
END:DAYLIGHT
BEGIN:STANDARD
TZOFFSETFROM:+0200
TZOFFSETTO:+0100
TZNAME:CET
DTSTART:20251026T010000
END:STANDARD
BEGIN:DAYLIGHT
TZOFFSETFROM:+0100
TZOFFSETTO:+0200
TZNAME:CEST
DTSTART:20260329T010000
END:DAYLIGHT
BEGIN:STANDARD
TZOFFSETFROM:+0200
TZOFFSETTO:+0100
TZNAME:CET
DTSTART:20261025T010000
END:STANDARD
BEGIN:DAYLIGHT
TZOFFSETFROM:+0100
TZOFFSETTO:+0200
TZNAME:CEST
DTSTART:20270328T010000
END:DAYLIGHT
BEGIN:STANDARD
TZOFFSETFROM:+0200
TZOFFSETTO:+0100
TZNAME:CET
DTSTART:20271031T010000
END:STANDARD
END:VTIMEZONE
BEGIN:VEVENT
DTSTART;TZID=Europe/Zurich:20260424T180000
DTEND;TZID=Europe/Zurich:20260424T220000
DTSTAMP:20260422T145217
CREATED:20260119T201116Z
LAST-MODIFIED:20260119T201116Z
UID:10000171-1777053600-1777068000@www.jagd-hubertus.ch
SUMMARY:Wursten mit Wildfleisch
DESCRIPTION:Grill und Wurstkurse 2026: Wursten mit Wildfleisch.
URL:https://www.jagd-hubertus.ch/event/wursten-mit-wildfleisch-2/
LOCATION:Schulküche Niederuzwil\, Marktplatz 7\, Niederuzwil\, 9244
CATEGORIES:Aus- und Weiterbildung
ATTACH;FMTTYPE=image/jpeg:https://www.jagd-hubertus.ch/wp-content/uploads/2023/12/Wildbratwurst.jpg
ORGANIZER;CN="Niedermann's":MAILTO:joe.niedermann@bluewin.ch
END:VEVENT
BEGIN:VEVENT
DTSTART;TZID=Europe/Zurich:20260508T174500
DTEND;TZID=Europe/Zurich:20260508T220000
DTSTAMP:20260422T145217
CREATED:20260119T194855Z
LAST-MODIFIED:20260119T194855Z
UID:10000170-1778262300-1778277600@www.jagd-hubertus.ch
SUMMARY:Wild'er Grillkurs in Niederuzwil
DESCRIPTION:Grill und Wurstkurse 2026: Wild’er Grillkurs in Niederuzwil.
URL:https://www.jagd-hubertus.ch/event/wilder-grillkurs-in-niederuzwil-3/
LOCATION:Stockweidhöckli Algetshausen\, Stockenstrasse\, Algetshausen\, 9249
CATEGORIES:Aus- und Weiterbildung
ATTACH;FMTTYPE=image/jpeg:https://www.jagd-hubertus.ch/wp-content/uploads/2023/08/Wildbret-3.jpg
ORGANIZER;CN="Niedermann's":MAILTO:joe.niedermann@bluewin.ch
END:VEVENT
BEGIN:VEVENT
DTSTART;TZID=Europe/Zurich:20260619T174500
DTEND;TZID=Europe/Zurich:20260619T220000
DTSTAMP:20260422T145217
CREATED:20260119T194306Z
LAST-MODIFIED:20260119T200718Z
UID:10000169-1781891100-1781906400@www.jagd-hubertus.ch
SUMMARY:Gourmet Grillkurs in Niederuzwil
DESCRIPTION:Grill und Wurstkurse 2026: Gourmet Grillkurs in Niederuzwil.
URL:https://www.jagd-hubertus.ch/event/gourmet-grillkurs-in-niederuzwil/
LOCATION:Stockweidhöckli Algetshausen\, Stockenstrasse\, Algetshausen\, 9249
CATEGORIES:Aus- und Weiterbildung
ATTACH;FMTTYPE=image/jpeg:https://www.jagd-hubertus.ch/wp-content/uploads/2023/08/Wildbret-3-1-scaled.jpeg
ORGANIZER;CN="Niedermann's":MAILTO:joe.niedermann@bluewin.ch
END:VEVENT
END:VCALENDAR