BEGIN:VCALENDAR
VERSION:2.0
PRODID:-//Hubertus Jagdgesellschaft - ECPv6.15.13//NONSGML v1.0//EN
CALSCALE:GREGORIAN
METHOD:PUBLISH
X-ORIGINAL-URL:https://www.jagd-hubertus.ch
X-WR-CALDESC:Veranstaltungen für Hubertus Jagdgesellschaft
REFRESH-INTERVAL;VALUE=DURATION:PT1H
X-Robots-Tag:noindex
X-PUBLISHED-TTL:PT1H
BEGIN:VTIMEZONE
TZID:Europe/Zurich
BEGIN:DAYLIGHT
TZOFFSETFROM:+0100
TZOFFSETTO:+0200
TZNAME:CEST
DTSTART:20250330T010000
END:DAYLIGHT
BEGIN:STANDARD
TZOFFSETFROM:+0200
TZOFFSETTO:+0100
TZNAME:CET
DTSTART:20251026T010000
END:STANDARD
BEGIN:DAYLIGHT
TZOFFSETFROM:+0100
TZOFFSETTO:+0200
TZNAME:CEST
DTSTART:20260329T010000
END:DAYLIGHT
BEGIN:STANDARD
TZOFFSETFROM:+0200
TZOFFSETTO:+0100
TZNAME:CET
DTSTART:20261025T010000
END:STANDARD
BEGIN:DAYLIGHT
TZOFFSETFROM:+0100
TZOFFSETTO:+0200
TZNAME:CEST
DTSTART:20270328T010000
END:DAYLIGHT
BEGIN:STANDARD
TZOFFSETFROM:+0200
TZOFFSETTO:+0100
TZNAME:CET
DTSTART:20271031T010000
END:STANDARD
END:VTIMEZONE
BEGIN:VEVENT
DTSTART;VALUE=DATE:20260418
DTEND;VALUE=DATE:20260420
DTSTAMP:20260422T171629
CREATED:20260202T205400Z
LAST-MODIFIED:20260202T205400Z
UID:10000173-1776470400-1776643199@www.jagd-hubertus.ch
SUMMARY:Schweisshundeübung 2
DESCRIPTION:Am Wochenende des 18. und 19. April 2026 findet die zweite Schweisshundeübung in den Revieren Altstätten I und Oberegg AI statt. Es werden 40 CHF pauschal eingezogen (inkl. Getränke Samstagmittag und Sonntagmorgen\, Wurst und Getränke Sonntagmittag). Es wird ein Anmeldeformular auf der Hubertus Webseite aufgeschaltet.
URL:https://www.jagd-hubertus.ch/event/schweisshundeuebung-2/
CATEGORIES:Hunde Termine
ATTACH;FMTTYPE=image/jpeg:https://www.jagd-hubertus.ch/wp-content/uploads/2022/12/hannover_r_guettinger.jpg
ORGANIZER;CN="Richard S%C3%A4tteli":MAILTO:info@saetteli.ch
END:VEVENT
BEGIN:VEVENT
DTSTART;TZID=Europe/Zurich:20260413T190000
DTEND;TZID=Europe/Zurich:20260413T200000
DTSTAMP:20260422T171629
CREATED:20260224T091458Z
LAST-MODIFIED:20260224T091458Z
UID:10000177-1776106800-1776110400@www.jagd-hubertus.ch
SUMMARY:Jagdhundetraining Hubertus
DESCRIPTION:Die Montagsübungen beginnen um 19:00 Uhr\, es braucht keine Anmeldung.\n\nDaten: 13. April; 27. April; 11. Mai; 01. Juni; 15. Juni; 29. Juni\, 13. Juli; Sommerpause; 03. August\, 17. August\, 31. August (Schlussübung)\n\nAuskünfte: Richard Sätteli
URL:https://www.jagd-hubertus.ch/event/jagdhundetraining-hubertus/2026-04-13/
LOCATION:Jagdschiessanlage Erlenholz\, Jagdschiessanlage Hubertus\, 9300 Wittenbach
CATEGORIES:Hunde Termine
ATTACH;FMTTYPE=image/jpeg:https://www.jagd-hubertus.ch/wp-content/uploads/2023/02/IMG_7951_1200x900.jpeg
ORGANIZER;CN="Richard S%C3%A4tteli":MAILTO:info@saetteli.ch
END:VEVENT
BEGIN:VEVENT
DTSTART;VALUE=DATE:20260328
DTEND;VALUE=DATE:20260330
DTSTAMP:20260422T171629
CREATED:20260202T204914Z
LAST-MODIFIED:20260202T210303Z
UID:10000172-1774656000-1774828799@www.jagd-hubertus.ch
SUMMARY:Schweisshundeübung 1
DESCRIPTION:Am Wochenende des 28. und 29. März 2026 findet die erste Schweisshundeübung in den Revieren Thal\, St. Margrethen\, Rorschacherberg und Untereggen statt. Es werden 40 CHF pauschal eingezogen (inklusive Getränke Samstagmittag und Sonntagmorgen\, Wurst und Getränke Sonntagmittag). Es wird ein Anmeldeformular auf der Hubertus Webseite aufgeschaltet.
URL:https://www.jagd-hubertus.ch/event/schweisshundeuebung-1/
CATEGORIES:Hunde Termine
ATTACH;FMTTYPE=image/jpeg:https://www.jagd-hubertus.ch/wp-content/uploads/2022/12/hannover_r_guettinger.jpg
ORGANIZER;CN="Richard S%C3%A4tteli":MAILTO:info@saetteli.ch
END:VEVENT
END:VCALENDAR